BEGIN:VCALENDAR
VERSION:2.0
PRODID:-//Downtown Ithaca - ECPv6.15.20//NONSGML v1.0//EN
CALSCALE:GREGORIAN
METHOD:PUBLISH
X-WR-CALNAME:Downtown Ithaca
X-ORIGINAL-URL:https://www.downtownithaca.com
X-WR-CALDESC:Events for Downtown Ithaca
REFRESH-INTERVAL;VALUE=DURATION:PT1H
X-Robots-Tag:noindex
X-PUBLISHED-TTL:PT1H
BEGIN:VTIMEZONE
TZID:America/New_York
BEGIN:DAYLIGHT
TZOFFSETFROM:-0500
TZOFFSETTO:-0400
TZNAME:EDT
DTSTART:20220313T070000
END:DAYLIGHT
BEGIN:STANDARD
TZOFFSETFROM:-0400
TZOFFSETTO:-0500
TZNAME:EST
DTSTART:20221106T060000
END:STANDARD
BEGIN:DAYLIGHT
TZOFFSETFROM:-0500
TZOFFSETTO:-0400
TZNAME:EDT
DTSTART:20230312T070000
END:DAYLIGHT
BEGIN:STANDARD
TZOFFSETFROM:-0400
TZOFFSETTO:-0500
TZNAME:EST
DTSTART:20231105T060000
END:STANDARD
BEGIN:DAYLIGHT
TZOFFSETFROM:-0500
TZOFFSETTO:-0400
TZNAME:EDT
DTSTART:20240310T070000
END:DAYLIGHT
BEGIN:STANDARD
TZOFFSETFROM:-0400
TZOFFSETTO:-0500
TZNAME:EST
DTSTART:20241103T060000
END:STANDARD
BEGIN:DAYLIGHT
TZOFFSETFROM:-0500
TZOFFSETTO:-0400
TZNAME:EDT
DTSTART:20250309T070000
END:DAYLIGHT
BEGIN:STANDARD
TZOFFSETFROM:-0400
TZOFFSETTO:-0500
TZNAME:EST
DTSTART:20251102T060000
END:STANDARD
END:VTIMEZONE
BEGIN:VEVENT
DTSTART;TZID=America/New_York:20241215T080000
DTEND;TZID=America/New_York:20241215T170000
DTSTAMP:20260420T084104
CREATED:20241125T143624Z
LAST-MODIFIED:20241125T143624Z
UID:10004295-1734249600-1734282000@www.downtownithaca.com
SUMMARY:Comfort Food
DESCRIPTION:Walking on Water Productions and Fitz&Startz Productions presents Comfort Food by Rachel Lampert and Larry Pressgrove \nDirected by Cynthia Henderson and Susannah Berryman \nFeaturing Emily Jackson as Harriet\, Achille Van Ricca as Gabriel\, and Rachel Lampert as Estelle \nThree solo shows in three kitchens! Eating\, entertaining\, engagements\, and estrangements propel the three short stories in the delightful and delicious chamber musical Comfort Food by Rachel Lampert & Larry Pressgrove. Meet Harriet\, the host of a TV cooking show; Gabriel\, a lover of junk food; and Estelle\, adjusting to life alone. Join us for an evening of music\, comedy\, and dramedy\, celebrating the enjoyment of Comfort Food! \nPerformances dates & times \nFri 12/6 at 7 pm \nSat 12/7 at 7 pm \nSun 12/8 at 4 pm \nFri 12/13 at 7 pm \nSat 12/14 at 7 pm \nSun 12/15 at 4 pm \nTickets are $25 \nThere will be a Pay What You Wish option available at the Box Office before each performance. \nThe show runs approximately 80 minutes without an intermission.
URL:https://www.downtownithaca.com/event/comfort-food/2024-12-15/
LOCATION:Kitchen Theatre Company\, 417 W State Street\, Ithaca\, 14850
CATEGORIES:Featured
ATTACH;FMTTYPE=image/jpeg:https://www.downtownithaca.com/wp-content/uploads/Comfort-Food-1.jpg
ORGANIZER;CN="Walking on Water Productions":MAILTO:info@walkingonwaterproductions.org
END:VEVENT
BEGIN:VEVENT
DTSTART;TZID=America/New_York:20241215T080000
DTEND;TZID=America/New_York:20241215T170000
DTSTAMP:20260420T084104
CREATED:20241125T143342Z
LAST-MODIFIED:20241125T143342Z
UID:10004289-1734249600-1734282000@www.downtownithaca.com
SUMMARY:The Sisters Fitz&Startz: Cook with Kids
DESCRIPTION:As part of KTC’s Family Fare programming\, WoW Productions and Fitz&Startz Productions present The Sisters Fitz&Startz: Cook with Kids \nBook and Lyrics by Rachel Lampert \nMusic by Benjamin Costello\, John Coyne\, Larry Pressgrove \nDirected by Sarah Plotkin \nChoreographed by Priscilla Hummel \nFeaturing Joey Steinhagen\, Stephen Nunley\, Gabriella Galante\, Adamantia Hopko\, Sana Sarr \nThe Sisters Fitz&Startz School of Music & Dance is prepping for a recital. The pre-teen students are eagerly rehearsing their songs and dances. In addition to the performance\, everyone anticipates the annual post-show reception\, where fabulous food is the highlight. But a last-minute change requires Ashtabula and Phlemena Fitz&Startz and their devoted students to add cooking and baking to their skill sets. A delightful\, delicious\, and fun-filled musical production is the result–great for the whole family! \nPerformances dates & times \nSat 12/7 at 1 & 3 pm \nSun 12/8 at 1 pm \nSat 12/14 at 1 & 3 pm \nSun 12/15 at 1 pm \nTickets are $10 \nThere will be a Pay What You Wish option available at the Box Office before each performance. \nThe show runs approximately 55 minutes without an intermission.
URL:https://www.downtownithaca.com/event/the-sisters-fitzstartz-cook-with-kids/2024-12-15/
LOCATION:Kitchen Theatre Company\, 417 W State Street\, Ithaca\, 14850
CATEGORIES:Featured
ATTACH;FMTTYPE=image/png:https://www.downtownithaca.com/wp-content/uploads/Cook-with-Kids-Ad-1.png
ORGANIZER;CN="Walking on Water Productions":MAILTO:info@walkingonwaterproductions.org
END:VEVENT
BEGIN:VEVENT
DTSTART;TZID=America/New_York:20230716T190000
DTEND;TZID=America/New_York:20230716T203500
DTSTAMP:20260420T084104
CREATED:20230626T210619Z
LAST-MODIFIED:20230626T210619Z
UID:10002744-1689534000-1689539700@www.downtownithaca.com
SUMMARY:The World According to Snoopy!!!
DESCRIPTION:Join the Peanuts gang as they celebrate their unique outlook on the world in this playful\, energetic musical. Boasting iconic characters\, bright melodies\, and clever lyrics\, this crowd pleaser is sure to delight and inspire audience members of all ages!
URL:https://www.downtownithaca.com/event/the-world-according-to-snoopy/2023-07-16/2/
LOCATION:Kitchen Theatre Company\, 417 W State Street\, Ithaca\, 14850
ATTACH;FMTTYPE=image/jpeg:https://www.downtownithaca.com/wp-content/uploads/The-World-According-to-Snoopy_show-art_cropped-scaled.jpg
ORGANIZER;CN="Walking on Water Productions":MAILTO:info@walkingonwaterproductions.org
END:VEVENT
END:VCALENDAR