BEGIN:VCALENDAR
VERSION:2.0
PRODID:-//Downtown Ithaca - ECPv6.15.20//NONSGML v1.0//EN
CALSCALE:GREGORIAN
METHOD:PUBLISH
X-ORIGINAL-URL:https://www.downtownithaca.com
X-WR-CALDESC:Events for Downtown Ithaca
REFRESH-INTERVAL;VALUE=DURATION:PT1H
X-Robots-Tag:noindex
X-PUBLISHED-TTL:PT1H
BEGIN:VTIMEZONE
TZID:America/New_York
BEGIN:DAYLIGHT
TZOFFSETFROM:-0500
TZOFFSETTO:-0400
TZNAME:EDT
DTSTART:20240310T070000
END:DAYLIGHT
BEGIN:STANDARD
TZOFFSETFROM:-0400
TZOFFSETTO:-0500
TZNAME:EST
DTSTART:20241103T060000
END:STANDARD
BEGIN:DAYLIGHT
TZOFFSETFROM:-0500
TZOFFSETTO:-0400
TZNAME:EDT
DTSTART:20250309T070000
END:DAYLIGHT
BEGIN:STANDARD
TZOFFSETFROM:-0400
TZOFFSETTO:-0500
TZNAME:EST
DTSTART:20251102T060000
END:STANDARD
BEGIN:DAYLIGHT
TZOFFSETFROM:-0500
TZOFFSETTO:-0400
TZNAME:EDT
DTSTART:20260308T070000
END:DAYLIGHT
BEGIN:STANDARD
TZOFFSETFROM:-0400
TZOFFSETTO:-0500
TZNAME:EST
DTSTART:20261101T060000
END:STANDARD
END:VTIMEZONE
BEGIN:VEVENT
DTSTART;TZID=America/New_York:20251026T120000
DTEND;TZID=America/New_York:20251026T160000
DTSTAMP:20260424T163820
CREATED:20251006T153950Z
LAST-MODIFIED:20251006T153950Z
UID:10005049-1761480000-1761494400@www.downtownithaca.com
SUMMARY:Ithaca Generator Open House
DESCRIPTION:SUNDAY\, OCT 26  –  12 to 4pm \nIthaca Generator’s annual open house invites all makers\, crafters\, and curious folks to 233 Cherry Street\, Ithaca\, NY for an afternoon of crafting\, demonstrations\, and celebration of another successful year of creativity.  \nLearn about our makerspace facility (which includes metal\, wood\, ceramics\, fiber arts\, 3D printing\, + more!) and how you can get involved in the local maker community!  \nThere will also be a RUMMAGE SALE to browse at this year’s open house\, which will help raise money for Ithaca Generator.  \nWe look forward to meeting you!
URL:https://www.downtownithaca.com/event/ithaca-generator-open-house/
LOCATION:233 Cherry St. Ithaca\, NY\, 233 Cherry St.\, Ithaca\, 14850
CATEGORIES:Featured
ATTACH;FMTTYPE=image/jpeg:https://www.downtownithaca.com/wp-content/uploads/Image_20250928_0001-scaled.jpg
END:VEVENT
END:VCALENDAR