BEGIN:VCALENDAR
VERSION:2.0
PRODID:-//Downtown Ithaca - ECPv6.15.20//NONSGML v1.0//EN
CALSCALE:GREGORIAN
METHOD:PUBLISH
X-ORIGINAL-URL:https://www.downtownithaca.com
X-WR-CALDESC:Events for Downtown Ithaca
REFRESH-INTERVAL;VALUE=DURATION:PT1H
X-Robots-Tag:noindex
X-PUBLISHED-TTL:PT1H
BEGIN:VTIMEZONE
TZID:America/New_York
BEGIN:DAYLIGHT
TZOFFSETFROM:-0500
TZOFFSETTO:-0400
TZNAME:EDT
DTSTART:20240310T070000
END:DAYLIGHT
BEGIN:STANDARD
TZOFFSETFROM:-0400
TZOFFSETTO:-0500
TZNAME:EST
DTSTART:20241103T060000
END:STANDARD
BEGIN:DAYLIGHT
TZOFFSETFROM:-0500
TZOFFSETTO:-0400
TZNAME:EDT
DTSTART:20250309T070000
END:DAYLIGHT
BEGIN:STANDARD
TZOFFSETFROM:-0400
TZOFFSETTO:-0500
TZNAME:EST
DTSTART:20251102T060000
END:STANDARD
BEGIN:DAYLIGHT
TZOFFSETFROM:-0500
TZOFFSETTO:-0400
TZNAME:EDT
DTSTART:20260308T070000
END:DAYLIGHT
BEGIN:STANDARD
TZOFFSETFROM:-0400
TZOFFSETTO:-0500
TZNAME:EST
DTSTART:20261101T060000
END:STANDARD
END:VTIMEZONE
BEGIN:VEVENT
DTSTART;TZID=America/New_York:20251118T180000
DTEND;TZID=America/New_York:20251118T210000
DTSTAMP:20260425T095348
CREATED:20251113T160613Z
LAST-MODIFIED:20251113T160613Z
UID:10005314-1763488800-1763499600@www.downtownithaca.com
SUMMARY:Being Dead w/ Milk Cousin @ Angry Mom Records
DESCRIPTION:Being Dead (Austin\, TX indie punk) will be playing live at Angry Mom Records with Milk Cousin on Tuesday\, November 18th 2025! Doors at 6pm/Show at 7pm ~ All Age Show!  $18 for credit card purchases / $15 for cash purchases. Read more and buy your tickets here: https://www.angry-mom-records.com/shop/being-dead-at-angry-mom-records-tuesday-11182025
URL:https://www.downtownithaca.com/event/being-dead-w-milk-cousin-angry-mom-records/
LOCATION:Angry Mom Records\, 115 E State St\, Ithaca\, NY\, 14850\, United States
CATEGORIES:Featured
ATTACH;FMTTYPE=image/png:https://www.downtownithaca.com/wp-content/uploads/Being-Dead-Instagram-Post-Size-1.png
ORGANIZER;CN="Mycellial Matters":MAILTO:aarontannersmith@proton.me
END:VEVENT
END:VCALENDAR