BEGIN:VCALENDAR
VERSION:2.0
PRODID:-//Downtown Ithaca - ECPv6.15.20//NONSGML v1.0//EN
CALSCALE:GREGORIAN
METHOD:PUBLISH
X-WR-CALNAME:Downtown Ithaca
X-ORIGINAL-URL:https://www.downtownithaca.com
X-WR-CALDESC:Events for Downtown Ithaca
REFRESH-INTERVAL;VALUE=DURATION:PT1H
X-Robots-Tag:noindex
X-PUBLISHED-TTL:PT1H
BEGIN:VTIMEZONE
TZID:America/New_York
BEGIN:DAYLIGHT
TZOFFSETFROM:-0500
TZOFFSETTO:-0400
TZNAME:EDT
DTSTART:20220313T070000
END:DAYLIGHT
BEGIN:STANDARD
TZOFFSETFROM:-0400
TZOFFSETTO:-0500
TZNAME:EST
DTSTART:20221106T060000
END:STANDARD
BEGIN:DAYLIGHT
TZOFFSETFROM:-0500
TZOFFSETTO:-0400
TZNAME:EDT
DTSTART:20230312T070000
END:DAYLIGHT
BEGIN:STANDARD
TZOFFSETFROM:-0400
TZOFFSETTO:-0500
TZNAME:EST
DTSTART:20231105T060000
END:STANDARD
BEGIN:DAYLIGHT
TZOFFSETFROM:-0500
TZOFFSETTO:-0400
TZNAME:EDT
DTSTART:20240310T070000
END:DAYLIGHT
BEGIN:STANDARD
TZOFFSETFROM:-0400
TZOFFSETTO:-0500
TZNAME:EST
DTSTART:20241103T060000
END:STANDARD
BEGIN:DAYLIGHT
TZOFFSETFROM:-0500
TZOFFSETTO:-0400
TZNAME:EDT
DTSTART:20250309T070000
END:DAYLIGHT
BEGIN:STANDARD
TZOFFSETFROM:-0400
TZOFFSETTO:-0500
TZNAME:EST
DTSTART:20251102T060000
END:STANDARD
BEGIN:DAYLIGHT
TZOFFSETFROM:-0500
TZOFFSETTO:-0400
TZNAME:EDT
DTSTART:20260308T070000
END:DAYLIGHT
BEGIN:STANDARD
TZOFFSETFROM:-0400
TZOFFSETTO:-0500
TZNAME:EST
DTSTART:20261101T060000
END:STANDARD
BEGIN:DAYLIGHT
TZOFFSETFROM:-0500
TZOFFSETTO:-0400
TZNAME:EDT
DTSTART:20270314T070000
END:DAYLIGHT
BEGIN:STANDARD
TZOFFSETFROM:-0400
TZOFFSETTO:-0500
TZNAME:EST
DTSTART:20271107T060000
END:STANDARD
END:VTIMEZONE
BEGIN:VEVENT
DTSTART;TZID=America/New_York:20251231T203000
DTEND;TZID=America/New_York:20260101T020000
DTSTAMP:20260424T144311
CREATED:20251208T154407Z
LAST-MODIFIED:20251208T154428Z
UID:10006510-1767213000-1767232800@www.downtownithaca.com
SUMMARY:New Year’s Gala 2026
DESCRIPTION:Welcome in the New Year at two beautiful venues connected by an outdoor patio with fire pits… \nListen to amazing live music in the former Ithaca mayor’s house and Duncan Hines world headquarters. Nosh on some of our complimentary savory bites and sweet snacks\, relax on one of our 19′ velvet couches\, cook s’mores around the fire pits\, order award-winning cocktails from one of our beautiful bars\, and bring in the New Year with style! \nAt the Argos Warehouse\, get down to the grooves of New Planets\, playing from 9pm-12am. Starting at midnight DJ Tuggle will be spinning a mixture of funk\, soul\, reggae & hip-hop until 2am. \nBar Argos will be hosting The Djangoners\, playing Paris Hot Club Swing music from 9:30pm-12:30am. \nDoors open 8:30.\nMusic 9pm-2am. \nAdvance tickets $45.\nDay of $55.  (Cash or Venmo accepted at the door.) \n21+ only
URL:https://www.downtownithaca.com/event/new-years-gala-2026/
LOCATION:Argos Inn\, 416 E. State St.\, Ithaca\, NY\, 14850
CATEGORIES:Featured
ATTACH;FMTTYPE=image/jpeg:https://www.downtownithaca.com/wp-content/uploads/Instagram-1.jpg
ORGANIZER;CN="Argos Inn":MAILTO:accounting@argosinn.com
END:VEVENT
BEGIN:VEVENT
DTSTART;TZID=America/New_York:20241231T203000
DTEND;TZID=America/New_York:20250101T020000
DTSTAMP:20260424T144311
CREATED:20241209T162717Z
LAST-MODIFIED:20241209T162717Z
UID:10004306-1735677000-1735696800@www.downtownithaca.com
SUMMARY:New Year's Gala
DESCRIPTION:Welcome in the New Year at two beautiful venues connected by an outdoor patio with fire pits… \nListen to amazing live music in the former Ithaca mayor’s house and Duncan Hines world headquarters! Nosh on some of our complimentary savory bites and sweet snacks\, relax on one of our 19′ velvet couches\, cook s’mores around the fire pits\, order award-winning cocktails from one of our beautiful bars\, and bring in the New Year with style. \nArgos Warehouse will be grooving with Funk Knights & Friends\, Buffalo NY funk with a side of brass\, playing from 9pm-12am. Starting at midnight DJ Tuggle will be spinning a mixture of funk\, soul\, reggae & hip-hop until 2am. \nBar Argos will be swinging with The Djangoners\, playing Paris Hot Club Swing music from 9:30pm-12:30am. \nDoors open 8:30. Party and music are 9pm-2am.\n21+ only \nAdvance tickets $45. Day of $50. (Cash or Venmo accepted at the door.)
URL:https://www.downtownithaca.com/event/new-years-gala/
LOCATION:Argos Inn\, 416 E. State St.\, Ithaca\, NY\, 14850
ATTACH;FMTTYPE=image/png:https://www.downtownithaca.com/wp-content/uploads/Instagram-1.png
ORGANIZER;CN="Argos Inn":MAILTO:accounting@argosinn.com
END:VEVENT
BEGIN:VEVENT
DTSTART;TZID=America/New_York:20240604T160000
DTEND;TZID=America/New_York:20240604T220000
DTSTAMP:20260424T144311
CREATED:20240528T044358Z
LAST-MODIFIED:20240528T044537Z
UID:10003948-1717516800-1717538400@www.downtownithaca.com
SUMMARY:Queer Cocktails For A Cause
DESCRIPTION:To kick off Pride Month\, Bar Argos will be having “Queer Cocktails For A Cause” Tuesday\, June 4th from 4-10pm. On this day we will donate 100% of bar sales to two queer nonprofit groups:\nIthaca Pride Alliance\nTransgender Law Center\nCome join us and give to a good cause by indulging in one of our tasty cocktails!
URL:https://www.downtownithaca.com/event/queer-cocktails-for-a-cause/
LOCATION:Argos Inn\, 416 E. State St.\, Ithaca\, NY\, 14850
CATEGORIES:Featured
ATTACH;FMTTYPE=image/jpeg:https://www.downtownithaca.com/wp-content/uploads/Queer-Cocktails.jpg
ORGANIZER;CN="Argos Inn":MAILTO:accounting@argosinn.com
END:VEVENT
BEGIN:VEVENT
DTSTART;TZID=America/New_York:20231231T203000
DTEND;TZID=America/New_York:20240101T020000
DTSTAMP:20260424T144311
CREATED:20231221T195834Z
LAST-MODIFIED:20231221T195834Z
UID:10003573-1704054600-1704074400@www.downtownithaca.com
SUMMARY:New Year's Gala 2024
DESCRIPTION:Welcome in the New Year at two beautiful venues connected by an outdoor patio with fire pits. \nDance to amazing live music in the former Ithaca mayor’s house and Duncan Hines world headquarters! \nNosh on some of our complimentary hors d’oeuvres and desserts\, relax on one of our 19′ velvet couches\, cook s’mores around the fire pits\, order award-winning cocktails from one of our beautiful artisan made bars\, and BRING IN THE NEW YEAR IN STYLE! \nAt the Argos Warehouse you can get down to the funky grooves of SingTrece & Stone Cold Miracle\, playing from 9pm-12am. Starting at midnight DJ Tuggle will be spinning a mixture of funk/soul/reggae/hip-hop until 2am. \nBar Argos will be hosting The Djangoners\, playing Paris Hot Club Swing music from 9pm-12am. \nDoors open 8:30. Party and music are 9pm-2am. \nTickets on sale now $45. Day of $50. (Cash or Venmo accepted at the door.) \n21+ only
URL:https://www.downtownithaca.com/event/new-years-gala-2024/
LOCATION:Argos Inn\, 416 E. State St.\, Ithaca\, NY\, 14850
ATTACH;FMTTYPE=image/png:https://www.downtownithaca.com/wp-content/uploads/NYE2024.png
ORGANIZER;CN="Argos Inn":MAILTO:accounting@argosinn.com
END:VEVENT
END:VCALENDAR