BEGIN:VCALENDAR
VERSION:2.0
PRODID:-//Downtown Ithaca - ECPv6.15.20//NONSGML v1.0//EN
CALSCALE:GREGORIAN
METHOD:PUBLISH
X-WR-CALNAME:Downtown Ithaca
X-ORIGINAL-URL:https://www.downtownithaca.com
X-WR-CALDESC:Events for Downtown Ithaca
REFRESH-INTERVAL;VALUE=DURATION:PT1H
X-Robots-Tag:noindex
X-PUBLISHED-TTL:PT1H
BEGIN:VTIMEZONE
TZID:America/New_York
BEGIN:DAYLIGHT
TZOFFSETFROM:-0500
TZOFFSETTO:-0400
TZNAME:EDT
DTSTART:20240310T070000
END:DAYLIGHT
BEGIN:STANDARD
TZOFFSETFROM:-0400
TZOFFSETTO:-0500
TZNAME:EST
DTSTART:20241103T060000
END:STANDARD
BEGIN:DAYLIGHT
TZOFFSETFROM:-0500
TZOFFSETTO:-0400
TZNAME:EDT
DTSTART:20250309T070000
END:DAYLIGHT
BEGIN:STANDARD
TZOFFSETFROM:-0400
TZOFFSETTO:-0500
TZNAME:EST
DTSTART:20251102T060000
END:STANDARD
BEGIN:DAYLIGHT
TZOFFSETFROM:-0500
TZOFFSETTO:-0400
TZNAME:EDT
DTSTART:20260308T070000
END:DAYLIGHT
BEGIN:STANDARD
TZOFFSETFROM:-0400
TZOFFSETTO:-0500
TZNAME:EST
DTSTART:20261101T060000
END:STANDARD
END:VTIMEZONE
BEGIN:VEVENT
DTSTART;TZID=America/New_York:20251031T150000
DTEND;TZID=America/New_York:20251031T180000
DTSTAMP:20260421T113410
CREATED:20251021T141213Z
LAST-MODIFIED:20251021T141213Z
UID:10005060-1761922800-1761933600@www.downtownithaca.com
SUMMARY:Bool's Flower Shop Halloween Open House
DESCRIPTION:Join us on October 31st from 3-6pm for a spooky good time! Enjoy treats\, refreshments\, and hauntingly fun decor while you shop. Come in costume\, bring your Halloween spirit\, and take 20% off all carry-out sales during the event. Stop by for flowers\, fun\, and a little Halloween magic!
URL:https://www.downtownithaca.com/event/bools-flower-shop-halloween-open-house/
LOCATION:Bool’s Flower Shop\, 209 N. Aurora st\, Ithaca\, 14850
CATEGORIES:Featured
ATTACH;FMTTYPE=image/png:https://www.downtownithaca.com/wp-content/uploads/Open-House-1-scaled.png
ORGANIZER;CN="Bool's Flower Shop":MAILTO:boolsflowershop@hotmail.com
END:VEVENT
END:VCALENDAR