BEGIN:VCALENDAR
VERSION:2.0
PRODID:-//Downtown Ithaca - ECPv6.15.20//NONSGML v1.0//EN
CALSCALE:GREGORIAN
METHOD:PUBLISH
X-WR-CALNAME:Downtown Ithaca
X-ORIGINAL-URL:https://www.downtownithaca.com
X-WR-CALDESC:Events for Downtown Ithaca
REFRESH-INTERVAL;VALUE=DURATION:PT1H
X-Robots-Tag:noindex
X-PUBLISHED-TTL:PT1H
BEGIN:VTIMEZONE
TZID:America/New_York
BEGIN:DAYLIGHT
TZOFFSETFROM:-0500
TZOFFSETTO:-0400
TZNAME:EDT
DTSTART:20230312T070000
END:DAYLIGHT
BEGIN:STANDARD
TZOFFSETFROM:-0400
TZOFFSETTO:-0500
TZNAME:EST
DTSTART:20231105T060000
END:STANDARD
BEGIN:DAYLIGHT
TZOFFSETFROM:-0500
TZOFFSETTO:-0400
TZNAME:EDT
DTSTART:20240310T070000
END:DAYLIGHT
BEGIN:STANDARD
TZOFFSETFROM:-0400
TZOFFSETTO:-0500
TZNAME:EST
DTSTART:20241103T060000
END:STANDARD
BEGIN:DAYLIGHT
TZOFFSETFROM:-0500
TZOFFSETTO:-0400
TZNAME:EDT
DTSTART:20250309T070000
END:DAYLIGHT
BEGIN:STANDARD
TZOFFSETFROM:-0400
TZOFFSETTO:-0500
TZNAME:EST
DTSTART:20251102T060000
END:STANDARD
END:VTIMEZONE
BEGIN:VEVENT
DTSTART;TZID=America/New_York:20240428T100000
DTEND;TZID=America/New_York:20240428T133000
DTSTAMP:20260424T161845
CREATED:20240422T025652Z
LAST-MODIFIED:20240422T025654Z
UID:10003824-1714298400-1714311000@www.downtownithaca.com
SUMMARY:Feline Follies
DESCRIPTION:Celebrating cats and Cornell with interactive lectures\, a cat show\, adoptable cats\, raffle prizes\, crafts\, and more!\nWe’re excited to announce the Cornell student chapter of the American Association of Feline Practitioners will be hosting our annual Feline Follies event! This is a program during which we invite students and the greater Cornell and Ithaca community to our school to celebrate cats and Cornell on Sunday April 28th from 10am – 1:30pm in the vet school’s lower atrium (Schurman Hall).
URL:https://www.downtownithaca.com/event/feline-follies/
LOCATION:Cornell College of Veterinary Medicine\, 602 Tower Rd\, Ithaca\, 14850
CATEGORIES:Featured
ATTACH;FMTTYPE=image/png:https://www.downtownithaca.com/wp-content/uploads/Screenshot-2024-04-16-134826.png
ORGANIZER;CN="AAFP Feline Club":MAILTO:cornellvetfelineclub@gmail.com
END:VEVENT
END:VCALENDAR