BEGIN:VCALENDAR
VERSION:2.0
PRODID:-//Downtown Ithaca - ECPv6.15.20//NONSGML v1.0//EN
CALSCALE:GREGORIAN
METHOD:PUBLISH
X-WR-CALNAME:Downtown Ithaca
X-ORIGINAL-URL:https://www.downtownithaca.com
X-WR-CALDESC:Events for Downtown Ithaca
REFRESH-INTERVAL;VALUE=DURATION:PT1H
X-Robots-Tag:noindex
X-PUBLISHED-TTL:PT1H
BEGIN:VTIMEZONE
TZID:America/New_York
BEGIN:DAYLIGHT
TZOFFSETFROM:-0500
TZOFFSETTO:-0400
TZNAME:EDT
DTSTART:20230312T070000
END:DAYLIGHT
BEGIN:STANDARD
TZOFFSETFROM:-0400
TZOFFSETTO:-0500
TZNAME:EST
DTSTART:20231105T060000
END:STANDARD
BEGIN:DAYLIGHT
TZOFFSETFROM:-0500
TZOFFSETTO:-0400
TZNAME:EDT
DTSTART:20240310T070000
END:DAYLIGHT
BEGIN:STANDARD
TZOFFSETFROM:-0400
TZOFFSETTO:-0500
TZNAME:EST
DTSTART:20241103T060000
END:STANDARD
BEGIN:DAYLIGHT
TZOFFSETFROM:-0500
TZOFFSETTO:-0400
TZNAME:EDT
DTSTART:20250309T070000
END:DAYLIGHT
BEGIN:STANDARD
TZOFFSETFROM:-0400
TZOFFSETTO:-0500
TZNAME:EST
DTSTART:20251102T060000
END:STANDARD
BEGIN:DAYLIGHT
TZOFFSETFROM:-0500
TZOFFSETTO:-0400
TZNAME:EDT
DTSTART:20260308T070000
END:DAYLIGHT
BEGIN:STANDARD
TZOFFSETFROM:-0400
TZOFFSETTO:-0500
TZNAME:EST
DTSTART:20261101T060000
END:STANDARD
END:VTIMEZONE
BEGIN:VEVENT
DTSTART;TZID=America/New_York:20250816T140000
DTEND;TZID=America/New_York:20250816T163000
DTSTAMP:20260421T154338
CREATED:20250806T185817Z
LAST-MODIFIED:20250806T185817Z
UID:10004897-1755352800-1755361800@www.downtownithaca.com
SUMMARY:Morris Dancers
DESCRIPTION:Morris is an English dance tradition that marks the turning of the seasons with joyful music\, colorful costumes\, bells and ribbons\, flashing hankies\, clashing sticks\, swords\, and garlands. These dances have been done since before Shakespeare’s time.  \nThe Bassett St Hounds Morris team from Syracuse is 40 years old this summer and we are celebrating with our friends. Eight teams from New York and New England will be performing in Watkins Glen and Ithaca on August 16 and 17.
URL:https://www.downtownithaca.com/event/morris-dancers-2/
LOCATION:Dewitt Park\, 102 E Court Street\, Ithaca\, 14850\, United States
CATEGORIES:Featured
ATTACH;FMTTYPE=image/jpeg:https://www.downtownithaca.com/wp-content/uploads/Bassett-St-Hounds-1.jpg
ORGANIZER;CN="Bassett St Hounds Morris Dancers":MAILTO:suzgalbraith@gmail.com
END:VEVENT
BEGIN:VEVENT
DTSTART;TZID=America/New_York:20241029T110000
DTEND;TZID=America/New_York:20241029T140000
DTSTAMP:20260421T154338
CREATED:20240715T163309Z
LAST-MODIFIED:20240715T163310Z
UID:10003931-1730199600-1730210400@www.downtownithaca.com
SUMMARY:Ithaca DOWNTOWN Farmers Market
DESCRIPTION:Ithaca Farmers Market returns to DeWitt Park on Tuesday afternoons this summer! \nCome to the shady oasis of DeWitt Park (corners of Cayuga and Buffalo St) on Tuesdays from 11 AM to 2P PM to grab lunch and shop for your weekly groceries including seasonal produce\, locally raised meat\, dairy\, cheese\, and other fresh or prepared grocery items. We welcome use of SNAP/EBT benefits. You can shop for local art and gifts and enjoy a hot meal during this short summer season that will include live music\, a Tompkins County Public Library story time and other activities. \nThe Ithaca Farmers Market emphasizes a direct connection between producer and consumer and promotes and strengthens local agriculture. Our Market features sustainable practices and a diverse array of farm and artisan products\, as well as prepared foods\, all produced within 30 miles.
URL:https://www.downtownithaca.com/event/ithaca-downtown-farmers-market-2/2024-10-29/
LOCATION:Dewitt Park\, 102 E Court Street\, Ithaca\, 14850\, United States
CATEGORIES:Featured
ATTACH;FMTTYPE=image/png:https://www.downtownithaca.com/wp-content/uploads/tuesdaymarket.png
ORGANIZER;CN="Ithaca Farmers Market":MAILTO:info@ithacamarket.com
END:VEVENT
BEGIN:VEVENT
DTSTART;TZID=America/New_York:20240601T140000
DTEND;TZID=America/New_York:20240601T160000
DTSTAMP:20260421T154338
CREATED:20240528T051227Z
LAST-MODIFIED:20240528T051227Z
UID:10003946-1717250400-1717257600@www.downtownithaca.com
SUMMARY:Free Cyanotype Workshop
DESCRIPTION:CSMA is celebrating Ithaca Fest with a cyanotype workshop at Dewitt Park! This fun\, free activity is great for kids and adults alike. Cyanotyping is an easy printmaking process using sunlight and cyanotype paper to create white images on a beautiful blue background. We will provide cyanotype paper and a rinsing station at our tent – feel free to drop in any time between 2 and 4pm!
URL:https://www.downtownithaca.com/event/free-cyanotype-workshop/
LOCATION:Dewitt Park\, 102 E Court Street\, Ithaca\, 14850\, United States
CATEGORIES:Featured
ATTACH;FMTTYPE=image/png:https://www.downtownithaca.com/wp-content/uploads/Cyanotype-Instagram-Post1.png
ORGANIZER;CN="Community School of Music &amp%3B Arts":MAILTO:info@csma-ithaca.org
END:VEVENT
END:VCALENDAR