BEGIN:VCALENDAR
VERSION:2.0
PRODID:-//Downtown Ithaca - ECPv6.15.20//NONSGML v1.0//EN
CALSCALE:GREGORIAN
METHOD:PUBLISH
X-ORIGINAL-URL:https://www.downtownithaca.com
X-WR-CALDESC:Events for Downtown Ithaca
REFRESH-INTERVAL;VALUE=DURATION:PT1H
X-Robots-Tag:noindex
X-PUBLISHED-TTL:PT1H
BEGIN:VTIMEZONE
TZID:America/New_York
BEGIN:DAYLIGHT
TZOFFSETFROM:-0500
TZOFFSETTO:-0400
TZNAME:EDT
DTSTART:20220313T070000
END:DAYLIGHT
BEGIN:STANDARD
TZOFFSETFROM:-0400
TZOFFSETTO:-0500
TZNAME:EST
DTSTART:20221106T060000
END:STANDARD
BEGIN:DAYLIGHT
TZOFFSETFROM:-0500
TZOFFSETTO:-0400
TZNAME:EDT
DTSTART:20230312T070000
END:DAYLIGHT
BEGIN:STANDARD
TZOFFSETFROM:-0400
TZOFFSETTO:-0500
TZNAME:EST
DTSTART:20231105T060000
END:STANDARD
BEGIN:DAYLIGHT
TZOFFSETFROM:-0500
TZOFFSETTO:-0400
TZNAME:EDT
DTSTART:20240310T070000
END:DAYLIGHT
BEGIN:STANDARD
TZOFFSETFROM:-0400
TZOFFSETTO:-0500
TZNAME:EST
DTSTART:20241103T060000
END:STANDARD
BEGIN:DAYLIGHT
TZOFFSETFROM:-0500
TZOFFSETTO:-0400
TZNAME:EDT
DTSTART:20250309T070000
END:DAYLIGHT
BEGIN:STANDARD
TZOFFSETFROM:-0400
TZOFFSETTO:-0500
TZNAME:EST
DTSTART:20251102T060000
END:STANDARD
BEGIN:DAYLIGHT
TZOFFSETFROM:-0500
TZOFFSETTO:-0400
TZNAME:EDT
DTSTART:20260308T070000
END:DAYLIGHT
BEGIN:STANDARD
TZOFFSETFROM:-0400
TZOFFSETTO:-0500
TZNAME:EST
DTSTART:20261101T060000
END:STANDARD
BEGIN:DAYLIGHT
TZOFFSETFROM:-0500
TZOFFSETTO:-0400
TZNAME:EDT
DTSTART:20270314T070000
END:DAYLIGHT
BEGIN:STANDARD
TZOFFSETFROM:-0400
TZOFFSETTO:-0500
TZNAME:EST
DTSTART:20271107T060000
END:STANDARD
END:VTIMEZONE
BEGIN:VEVENT
DTSTART;TZID=America/New_York:20260327T190000
DTEND;TZID=America/New_York:20260327T210000
DTSTAMP:20260425T093638
CREATED:20260316T183625Z
LAST-MODIFIED:20260316T183625Z
UID:10006875-1774638000-1774645200@www.downtownithaca.com
SUMMARY:No Kings: An Evening of Music & Community hosted by Annie Burns
DESCRIPTION:A free concert on the eve of the No Kings March\, hosted by Annie Burns\, with Joe Crookston\, Doug Robinson\, Harry Aceto\, Mark Zabel\, and many other musical guests.  An opportunity to lift our voices together in songs of solidarity and hope.
URL:https://www.downtownithaca.com/event/no-kings-an-evening-of-music-community-hosted-by-annie-burns/
LOCATION:First Unitarian Society of Ithaca\, 306 N. Aurora St.\, Ithaca\, 13077
CATEGORIES:Featured
ATTACH;FMTTYPE=image/png:https://www.downtownithaca.com/wp-content/uploads/No-Kings-concert.png
ORGANIZER;CN="Indivisible Tompkins":MAILTO:indivisibletompkins@gmail.com
END:VEVENT
BEGIN:VEVENT
DTSTART;TZID=America/New_York:20240923T190000
DTEND;TZID=America/New_York:20240923T204500
DTSTAMP:20260425T093638
CREATED:20240903T151849Z
LAST-MODIFIED:20240903T151849Z
UID:10004120-1727118000-1727124300@www.downtownithaca.com
SUMMARY:Join VOICES Multicultural Chorus to "Sing of Celebration"
DESCRIPTION:VOICES is gearing up for our fall semester with a fun mix of pieces for our theme “Songs of Celebration.” We would love to have you join us. We are a non-audition group of singers based in Ithaca\, NY interested in learning\, sharing\, and singing songs from diverse choral traditions. All singers are welcome from beginners to pros. You may participate in the first three sessions without obligation. We meet Monday nights 7:00-8:45 pm on the second floor of the Annex of the First Unitarian Society of Ithaca\, 208 E. Buffalo Street starting September 9. Our closing concert is scheduled for early December. Please register so we can be sure to have music and seating for all: https://acithaca.org/groups/voices/join/ Walkins are welcome also. Come sing with us!
URL:https://www.downtownithaca.com/event/join-voices-multicultural-chorus-to-sing-of-celebration/2024-09-23/
LOCATION:First Unitarian Society of Ithaca\, 306 N. Aurora St.\, Ithaca\, 13077
CATEGORIES:Featured
ATTACH;FMTTYPE=image/jpeg:https://www.downtownithaca.com/wp-content/uploads/Join-VOICES.jpg
ORGANIZER;CN="VOICES Multicultural Chorus":MAILTO:mduttweiler@gmail.com
END:VEVENT
BEGIN:VEVENT
DTSTART;TZID=America/New_York:20240512T160000
DTEND;TZID=America/New_York:20240512T180000
DTSTAMP:20260425T093638
CREATED:20240502T150040Z
LAST-MODIFIED:20240502T150040Z
UID:10003848-1715529600-1715536800@www.downtownithaca.com
SUMMARY:Finger Lakes Chamber Ensemble Mother’s Day Concert
DESCRIPTION:On May 12th\, the Finger Lakes Chamber Ensemble Mother’s Day Concert will include Weber’s virtuosic Clarinet Quintet\, the haunting Elgar Piano Quintet\, and the Sonata for Flute and Piano by the late-Romantic composer Mélanie Bonis. Janet Sung\, Stefan Reuss\, and Roberta Crawford will be welcoming Barry Crawford\, flute; Richard MacDowell\, clarinet\, Molly Morkoski\, piano\, and Jessica Tong\, violin to the stage for this very special program.
URL:https://www.downtownithaca.com/event/finger-lakes-chamber-ensemble-mothers-day-concert/
LOCATION:First Unitarian Society of Ithaca\, 306 N. Aurora St.\, Ithaca\, 13077
CATEGORIES:Featured
ATTACH;FMTTYPE=image/png:https://www.downtownithaca.com/wp-content/uploads/FLCE-2023-collage-3.png
ORGANIZER;CN="Finger Lakes Chamber Ensemble":MAILTO:flce@twcny.rr.com
END:VEVENT
BEGIN:VEVENT
DTSTART;TZID=America/New_York:20240310T160000
DTEND;TZID=America/New_York:20240310T180000
DTSTAMP:20260425T093638
CREATED:20240222T051701Z
LAST-MODIFIED:20240222T051701Z
UID:10003659-1710086400-1710093600@www.downtownithaca.com
SUMMARY:Finger Lakes Chamber Ensemble Spring Concert
DESCRIPTION:On Sunday\, March 10th\, the Finger Lakes Chamber Ensemble will be joined by Barry Crawford\,\nflute\, and I-Fei Chen\, piano\, to present an exhilarating program featuring Czech composers Antonín Dvořák\,\nLeoš Janáček\, and Bohuslav Martinů.
URL:https://www.downtownithaca.com/event/finger-lakes-chamber-ensemble-spring-concert-2/
LOCATION:First Unitarian Society of Ithaca\, 306 N. Aurora St.\, Ithaca\, 13077
CATEGORIES:Featured
ATTACH;FMTTYPE=image/jpeg:https://www.downtownithaca.com/wp-content/uploads/2024-03-10-Spring-Concert-Flyer-scaled.jpg
ORGANIZER;CN="Finger Lakes Chamber Ensemble":MAILTO:flce@twcny.rr.com
END:VEVENT
BEGIN:VEVENT
DTSTART;TZID=America/New_York:20230219T160000
DTEND;TZID=America/New_York:20230219T210000
DTSTAMP:20260425T093638
CREATED:20230214T151045Z
LAST-MODIFIED:20230214T151045Z
UID:10000056-1676822400-1676840400@www.downtownithaca.com
SUMMARY:Ithaca Rotary Club presents “Music for Ukraine”
DESCRIPTION:A benefit concert to upgrade school bomb shelters in Lviv\, Ukraine. Sunday\, February 19th at 4pm at the First Unitarian Society of Ithaca. Donations accepted at the door. A local art auction will take place while enjoying live Ukrainian music by members and friends of the Ithaca Community Orchestra\, Opus Ithaca and Kendal Chorus. \n*To donate\, please follow the directions in the image provided. To donate online\, visit: https://www.cftompkins.org/giving/give-online/\nand type in “Rotary Club of Ithaca and Ukraine” in the comments.
URL:https://www.downtownithaca.com/event/ithaca-rotary-club-presents-music-for-ukraine/
LOCATION:First Unitarian Society of Ithaca\, 306 N. Aurora St.\, Ithaca\, 13077
ATTACH;FMTTYPE=image/jpeg:https://www.downtownithaca.com/wp-content/uploads/unnamed-7.jpg
ORGANIZER;CN="Ithaca Rotary Club":MAILTO:email@gmail.com
END:VEVENT
END:VCALENDAR