BEGIN:VCALENDAR
VERSION:2.0
PRODID:-//Downtown Ithaca - ECPv6.15.20//NONSGML v1.0//EN
CALSCALE:GREGORIAN
METHOD:PUBLISH
X-ORIGINAL-URL:https://www.downtownithaca.com
X-WR-CALDESC:Events for Downtown Ithaca
REFRESH-INTERVAL;VALUE=DURATION:PT1H
X-Robots-Tag:noindex
X-PUBLISHED-TTL:PT1H
BEGIN:VTIMEZONE
TZID:America/New_York
BEGIN:DAYLIGHT
TZOFFSETFROM:-0500
TZOFFSETTO:-0400
TZNAME:EDT
DTSTART:20220313T070000
END:DAYLIGHT
BEGIN:STANDARD
TZOFFSETFROM:-0400
TZOFFSETTO:-0500
TZNAME:EST
DTSTART:20221106T060000
END:STANDARD
BEGIN:DAYLIGHT
TZOFFSETFROM:-0500
TZOFFSETTO:-0400
TZNAME:EDT
DTSTART:20230312T070000
END:DAYLIGHT
BEGIN:STANDARD
TZOFFSETFROM:-0400
TZOFFSETTO:-0500
TZNAME:EST
DTSTART:20231105T060000
END:STANDARD
BEGIN:DAYLIGHT
TZOFFSETFROM:-0500
TZOFFSETTO:-0400
TZNAME:EDT
DTSTART:20240310T070000
END:DAYLIGHT
BEGIN:STANDARD
TZOFFSETFROM:-0400
TZOFFSETTO:-0500
TZNAME:EST
DTSTART:20241103T060000
END:STANDARD
BEGIN:DAYLIGHT
TZOFFSETFROM:-0500
TZOFFSETTO:-0400
TZNAME:EDT
DTSTART:20250309T070000
END:DAYLIGHT
BEGIN:STANDARD
TZOFFSETFROM:-0400
TZOFFSETTO:-0500
TZNAME:EST
DTSTART:20251102T060000
END:STANDARD
BEGIN:DAYLIGHT
TZOFFSETFROM:-0500
TZOFFSETTO:-0400
TZNAME:EDT
DTSTART:20260308T070000
END:DAYLIGHT
BEGIN:STANDARD
TZOFFSETFROM:-0400
TZOFFSETTO:-0500
TZNAME:EST
DTSTART:20261101T060000
END:STANDARD
END:VTIMEZONE
BEGIN:VEVENT
DTSTART;TZID=America/New_York:20250725T140000
DTEND;TZID=America/New_York:20250725T170000
DTSTAMP:20260424T231306
CREATED:20250410T145705Z
LAST-MODIFIED:20250410T145705Z
UID:10004567-1753452000-1753462800@www.downtownithaca.com
SUMMARY:Tompkins County Office for the Aging 50th Anniversary and Senior Living Expo
DESCRIPTION:Join the TC Office for the Aging in celebrating our 50th anniversary and the relaunch of our annual Senior Living Expo! The Senior Living Expo will offer the public information on area programs and services to help individuals age in the community- at home\, in senior housing\, and in other facilities. Vendors from over 20 community agencies will be present for this FREE event.
URL:https://www.downtownithaca.com/event/tompkins-county-office-for-the-aging-50th-anniversary-and-senior-living-expo/
LOCATION:Hotel Ithaca\, 222 S. Cayuga St.\, Ithaca\, NY\, 14850
CATEGORIES:Featured
ATTACH;FMTTYPE=image/png:https://www.downtownithaca.com/wp-content/uploads/Public-Invite.png
ORGANIZER;CN="Tompkins County Office for the Aging":MAILTO:cofa@tompkins-co.org
END:VEVENT
BEGIN:VEVENT
DTSTART;TZID=America/New_York:20241030T090000
DTEND;TZID=America/New_York:20241030T120000
DTSTAMP:20260424T231306
CREATED:20240926T143347Z
LAST-MODIFIED:20240926T143347Z
UID:10004167-1730278800-1730289600@www.downtownithaca.com
SUMMARY:28th Annual World of Skills Job Fair
DESCRIPTION:Job seekers are invited to join us for the 28th annual World of Skills job fair on October 30th at 9am to noon. The event will take place at the Hotel Ithaca\, where over 30 employers will be available to discuss job and career opportunities. The first 20 job seekers will receive door prizes\, and there will also be a raffle to win a refurbished laptop! Attending employers include: Lakeview Health Services\, Stafkings\, TCAT\, Therm\, Walmart\, William George Agency\, Unity House\, Tompkins County Human Resources\, Cornell University\, Express Employment Professionals\, Finger Lakes Independence Center\, Hospicare & Palliative Care Services\, TST BOCES\, Wegmans\, Finger Lakes Residential Center\, Cayuga Health\, Classen Home Health\, Laborers Union 785\, Painters Union\, Hotel Ithaca\, Springbrook\, Guthrie\, CFCU Community Credit Union.
URL:https://www.downtownithaca.com/event/28th-annual-world-of-skills-job-fair/
LOCATION:Hotel Ithaca\, 222 S. Cayuga St.\, Ithaca\, NY\, 14850
CATEGORIES:Featured
ATTACH;FMTTYPE=image/png:https://www.downtownithaca.com/wp-content/uploads/World-of-Skills-Job-Fair.pdf-Instagram-Post.png
ORGANIZER;CN="Finger Lakes Independence Center":MAILTO:info@fliconline.org
END:VEVENT
BEGIN:VEVENT
DTSTART;TZID=America/New_York:20230429T130000
DTEND;TZID=America/New_York:20230429T160000
DTSTAMP:20260424T231306
CREATED:20230306T140432Z
LAST-MODIFIED:20230306T140432Z
UID:10000073-1682773200-1682784000@www.downtownithaca.com
SUMMARY:deep Audio groove – 6 year Anniversary | electronic music radio station | 6 years of finest deep house music programming since 2017.
DESCRIPTION:deep Audio groove is celebrating 6 years of electronic music radio station programming since 2017. \nhttps://deepaudiogroove.com/ \ndeep Audio groove is featured on Roku TV with Tune-In Radio\, Apple App Store and Google Play Store as free mobile app streaming in 72 countries daily. \nhttps://tunein.com/radio/deep-Audio-groove–deep-house-s288527/ \ndeep Audio groove is outgrowth of deejaying electronic music monthly in downtown Ithaca since 2010. \nhttps://apps.apple.com/us/app/deep-audio-groove/id1217862290 \nhttps://play.google.com/store/apps/details?id=com.nobexinc.wls_3908994881.rc
URL:https://www.downtownithaca.com/event/deep-audio-groove-6-year-anniversary-electronic-music-radio-station-6-years-of-finest-deep-house-music-programming-since-2017/
LOCATION:Hotel Ithaca\, 222 S. Cayuga St.\, Ithaca\, NY\, 14850
ATTACH;FMTTYPE=image/jpeg:https://www.downtownithaca.com/wp-content/uploads/Modern-Women-Line-Art-scaled.jpg
ORGANIZER;CN="deep Audio groove | electronic radio station":MAILTO:music@deepaudiogroove.com
END:VEVENT
END:VCALENDAR