BEGIN:VCALENDAR
VERSION:2.0
PRODID:-//Downtown Ithaca - ECPv6.15.20//NONSGML v1.0//EN
CALSCALE:GREGORIAN
METHOD:PUBLISH
X-ORIGINAL-URL:https://www.downtownithaca.com
X-WR-CALDESC:Events for Downtown Ithaca
REFRESH-INTERVAL;VALUE=DURATION:PT1H
X-Robots-Tag:noindex
X-PUBLISHED-TTL:PT1H
BEGIN:VTIMEZONE
TZID:America/New_York
BEGIN:DAYLIGHT
TZOFFSETFROM:-0500
TZOFFSETTO:-0400
TZNAME:EDT
DTSTART:20250309T070000
END:DAYLIGHT
BEGIN:STANDARD
TZOFFSETFROM:-0400
TZOFFSETTO:-0500
TZNAME:EST
DTSTART:20251102T060000
END:STANDARD
BEGIN:DAYLIGHT
TZOFFSETFROM:-0500
TZOFFSETTO:-0400
TZNAME:EDT
DTSTART:20260308T070000
END:DAYLIGHT
BEGIN:STANDARD
TZOFFSETFROM:-0400
TZOFFSETTO:-0500
TZNAME:EST
DTSTART:20261101T060000
END:STANDARD
BEGIN:DAYLIGHT
TZOFFSETFROM:-0500
TZOFFSETTO:-0400
TZNAME:EDT
DTSTART:20270314T070000
END:DAYLIGHT
BEGIN:STANDARD
TZOFFSETFROM:-0400
TZOFFSETTO:-0500
TZNAME:EST
DTSTART:20271107T060000
END:STANDARD
END:VTIMEZONE
BEGIN:VEVENT
DTSTART;TZID=America/New_York:20260418T170000
DTEND;TZID=America/New_York:20260418T190000
DTSTAMP:20260424T195446
CREATED:20260325T135652Z
LAST-MODIFIED:20260325T135652Z
UID:10006971-1776531600-1776538800@www.downtownithaca.com
SUMMARY:Babalu's Kung-Fu Your Own Adventures!
DESCRIPTION:A martial arts themed choose-your-own-adventure! No prior experience in martial arts\, acting\, tabletop roleplaying required. No contact\, plenty of snacks! \nFree to see\, $8 to play!
URL:https://www.downtownithaca.com/event/babalus-kung-fu-your-own-adventures/
LOCATION:K-House Karaoke & Arts Hub\, 121 W Martin Luther King Jr St\, Ithaca\, 14850
CATEGORIES:Featured
ATTACH;FMTTYPE=image/png:https://www.downtownithaca.com/wp-content/uploads/Kung-Fu-Your-Own-Adventures.png
ORGANIZER;CN="Black 'n' BLu":MAILTO:lushimaklk@gmail.com
END:VEVENT
BEGIN:VEVENT
DTSTART;TZID=America/New_York:20260412T113000
DTEND;TZID=America/New_York:20260412T133000
DTSTAMP:20260424T195446
CREATED:20260402T003549Z
LAST-MODIFIED:20260402T003549Z
UID:10006985-1775993400-1776000600@www.downtownithaca.com
SUMMARY:Vinyl Soul Brunch with DJ Flex Unger at K-House
DESCRIPTION:K-HOUSE Karaoke & Arts Hub is proud to introduce Room K Brunch: Vinyl Edition\, a new daytime programming concept debuting Sunday\, April 12th in Room K. This evolving brunch series will blend curated DJ sets\, live performances\, and elevated brunch offerings in an intimate\, community-driven setting. \nThe series launches with Soul Brunch featuring DJ Flex Unger of @cleanandhumble\, spinning a curated selection of soul 45’s from 11:30 AM to 1:30 PM\, setting the tone for a relaxed yet vibrant Sunday experience. \nBrunch service will be provided by Farm to Feast NY\, K-HOUSE’s café partner\, known for its thoughtfully crafted menu and locally driven approach\, with expanded days and hours coming soon as programming continues to grow. \nAlongside the final day of the Ithaca D.I.Y. Fest\, Room K Brunch: Vinyl Edition will serve as a welcoming “fuel-up station” for festival-goers before the day’s lineup of live performances begins. \nK-HOUSE is also proud to be an active festival venue\, with live music programming throughout the weekend:\nFriday shows begin at 12:45 PM\,\nSaturday shows begin at 12:30 PM\, and\nSunday performances kick off at 2:00 PM—immediately following brunch. \nThis makes Sunday’s brunch the perfect transition point—guests can enjoy a relaxed\, music-filled brunch and roll directly into the afternoon lineup without missing a beat. \nThroughout the entire festival weekend\, Farm to Feast NY at K-HOUSE will serve as a central destination for food and daytime gathering\, open from 8:00 AM to 4:00 PM. Festivalgoers are encouraged to stop in each day to eat\, recharge\, and connect between shows\, with Sunday’s Soul Brunch serving as the official launch of Room K’s themed brunch programming. \nUpstairs at K-HOUSE\, the café and karaoke bar & lounge remain free and open to the public throughout the weekend. Guests wishing to attend official Ithaca D.I.Y. Fest performances should note that festival shows require ticketed entry\, while Room K Brunch: Vinyl Edition operates on a recommended $5–$10 pay-what-you-can donation at the door.
URL:https://www.downtownithaca.com/event/vinyl-soul-brunch-with-dj-flex-unger-at-k-house/
LOCATION:K-House Karaoke & Arts Hub\, 121 W Martin Luther King Jr St\, Ithaca\, 14850
CATEGORIES:Featured
ATTACH;FMTTYPE=image/jpeg:https://www.downtownithaca.com/wp-content/uploads/soulbrunchkhouse-1.jpg
END:VEVENT
BEGIN:VEVENT
DTSTART;TZID=America/New_York:20260407T190000
DTEND;TZID=America/New_York:20260407T210000
DTSTAMP:20260424T195446
CREATED:20260406T144513Z
LAST-MODIFIED:20260406T144558Z
UID:10007053-1775588400-1775595600@www.downtownithaca.com
SUMMARY:ComedyHOF Open Mic Night in Room K - K-HOUSE Karaoke & Arts Hub
DESCRIPTION:ComedyHOF Open Mic at K-HOUSE\nA focused room for the craft of comedy. \nComedy HOF presents a monthly stand-up open mic in Room K @ K-HOUSE Karaoke & Arts Hub\, hosted by Ben Mumford-Zisk\nThis is a high-energy night for comedians and audiences who care about timing\, material\, and the work of stand-up. \nEach comic gets five minutes in an intimate\, attentive room designed for connection. Whether you’re testing new jokes\, sharpening a set\, or just here to laugh\, Room K is a space where comedy is taken seriously — and still fun.\nThis is where momentum starts! Come early\, get on the list\, and be part of a growing comedy scene. \n📍 K-HOUSE Karaoke & Arts Hub\, 121 W State St\, Room K (Downstairs)\, Ithaca\, NY\n🔁 1st Tuesday of every month\n🎙 Hosted by Ben Mumford-Zisk\n🎭 Presented by Comedy HOF\n🕖 Show: 7:00 to 9:00 PM | Sign-ups begin @ 6:45 PM
URL:https://www.downtownithaca.com/event/comedyhof-open-mic-night-in-room-k-k-house-karaoke-arts-hub/2026-04-07/
LOCATION:K-House Karaoke & Arts Hub\, 121 W Martin Luther King Jr St\, Ithaca\, 14850
CATEGORIES:Featured
ATTACH;FMTTYPE=image/jpeg:https://www.downtownithaca.com/wp-content/uploads/standupcomedyhof-1.jpg
END:VEVENT
BEGIN:VEVENT
DTSTART;TZID=America/New_York:20260329T160000
DTEND;TZID=America/New_York:20260329T190000
DTSTAMP:20260424T195446
CREATED:20260326T134946Z
LAST-MODIFIED:20260326T134946Z
UID:10006972-1774800000-1774810800@www.downtownithaca.com
SUMMARY:Sunday Fungay\, Trivia Edition! Queer Trivia in Room K at K-House with T41 and Tilia Cordata
DESCRIPTION:Dust off your thinking caps for this special Sunday Funday!! Come on down to Room K – Home of QSpace – Where T41’s Gina will be on the mic queery-ing you all on your common knowledge and queer smarts. With performances by Tilia Cordata between each round! \n$10 to play (discounts for QPass Members) \nMarch 29th\, 4:00 – 7:00\nHappy hour social 4:00-5:00 with trivia starting at 5:00
URL:https://www.downtownithaca.com/event/sunday-fungay-trivia-edition-queer-trivia-in-room-k-at-k-house-with-t41-and-tilia-cordata/
LOCATION:K-House Karaoke & Arts Hub\, 121 W Martin Luther King Jr St\, Ithaca\, 14850
CATEGORIES:Featured
ATTACH;FMTTYPE=image/jpeg:https://www.downtownithaca.com/wp-content/uploads/SundayFungay.jpeg
ORGANIZER;CN="QSpace":MAILTO:marketingkhouse@gmail.com
END:VEVENT
BEGIN:VEVENT
DTSTART;TZID=America/New_York:20260323T190000
DTEND;TZID=America/New_York:20260323T210000
DTSTAMP:20260424T195446
CREATED:20260317T024836Z
LAST-MODIFIED:20260317T024836Z
UID:10006876-1774292400-1774299600@www.downtownithaca.com
SUMMARY:One Night With You: Elvis Dinner Show Comes to K-HOUSE Karaoke & Arts Hub
DESCRIPTION:K-HOUSE Karaoke & Arts Hub invites oldies lovers to spend an evening with Elvis. One Night With You is a dinner show featuring the comedy and vocal stylings of The King himself\, a three-course meal and guest performances\, all in the intimate setting of Room K (formerly The Downstairs). \nElvis\, who has been touring small-town venues since his supposed death in 1977\, tells hilarious stories about his life\, interspersed with classic songs\, underrated tracks and beloved covers\, during the 90-minute show. Duets throughout the evening will feature stars from the rock & roll era\, including Neil Diamond and guest interaction and accompaniment are encouraged. Blending live performance with dinner theatre and the dietary restrictions of the aging The King\, guests will enjoy a healthy meal with gluten-free and vegetarian options\, as well as some of Elvis’ favorite treats.   \n“If you’ve got a suspicious mind and want the full story\, you’ll just have to come hear it from The King himself.” -Sylvie Froncek\, producer of One Night With You \nThe show takes place on the fourth Monday of each month at K-HOUSE this spring. Tickets include dinner and the show. Beverages will be available to purchase from the bar.  \nUpcoming performances include:\n• Monday\, March 23 — 7:00 PM – 9:00 PM\n• Monday\, April 27 — 6:00 PM – 8:00 PM and 8:00 PM – 10:00 PM (during Old Greeny Fringe Fest)\n• Monday\, May 25 — 7:00 PM – 9:00 PM \nTickets are $35 per person or $120 for a table of four\, and reservations are required. \nGuests can expect an evening of classic songs\, theatrical storytelling\, and opportunities to interact with Elvis and sing-along.  \nReservations:\nhttps://www.viecycle.com/elvis-dinner-show.html
URL:https://www.downtownithaca.com/event/one-night-with-you-elvis-dinner-show-comes-to-k-house-karaoke-arts-hub/2026-03-23/
LOCATION:K-House Karaoke & Arts Hub\, 121 W Martin Luther King Jr St\, Ithaca\, 14850
CATEGORIES:Featured
ATTACH;FMTTYPE=image/png:https://www.downtownithaca.com/wp-content/uploads/1000034211-scaled.png
END:VEVENT
BEGIN:VEVENT
DTSTART;TZID=America/New_York:20260307T190000
DTEND;TZID=America/New_York:20260307T210000
DTSTAMP:20260424T195446
CREATED:20260305T163015Z
LAST-MODIFIED:20260305T163015Z
UID:10006825-1772910000-1772917200@www.downtownithaca.com
SUMMARY:Chasing Neon Live in Room K @ K-House Karaoke & Arts Hub
DESCRIPTION:⚡️ CHASING NEON is taking over ROOM K ⚡️ \nSaturday\, March 7th • 7–9PM\n📍 K-HOUSE Karaoke & Arts Hub\n121 W MLK Jr St\, Ithaca \n$10 in advance or at the door\nVenmo: Nicholas-stark-4\nCashapp: $yonickstark\n*Room K \nGet ready for a party band with the genre range of a DJ — pop\, rock\, hip hop\, country\, throwbacks\, sing-alongs and everything in between. \nIf you love the energy of a DJ but want the electricity of a live band… this is your night. 🔥 \nStart downstairs in Room K with Chasing Neon \nThen head upstairs for karaoke after and keep the party going all night 🎤✨
URL:https://www.downtownithaca.com/event/chasing-neon-live-in-room-k-k-house-karaoke-arts-hub/
LOCATION:K-House Karaoke & Arts Hub\, 121 W Martin Luther King Jr St\, Ithaca\, 14850
CATEGORIES:Featured
ATTACH;FMTTYPE=image/jpeg:https://www.downtownithaca.com/wp-content/uploads/chasingneon.jpg
END:VEVENT
BEGIN:VEVENT
DTSTART;TZID=America/New_York:20260214T200000
DTEND;TZID=America/New_York:20260214T230000
DTSTAMP:20260424T195446
CREATED:20260211T200222Z
LAST-MODIFIED:20260211T200222Z
UID:10006727-1771099200-1771110000@www.downtownithaca.com
SUMMARY:K-HOUSE Surprise Pre-Opening Show: Bang Bang Experience
DESCRIPTION:⚡ SURPRISE PRE-OPENING SHOW ⚡ \nBefore we officially open K-HOUSE Karaoke & Arts Hub to the world\, we’re doing something SPECIAL. \nTHE VERY FIRST SHOWS IN ROOM K ⚡ \nWe’re christening our brand new space with Portland’s powerhouse 7-piece brass band @bangbangexperience for an exclusive pre-opening weekend nobody saw coming. \n🎺 What you’re about to witness:\nA full brass orchestra meets international funk. Trumpet melodies riding waves of West African & Latin American rhythms. Drum set\, Cajon\, Timbales\, Congas\, Surdo creating intricate polyrhythmic grooves. Lower brass taking on bass lines while the rhythm section swaps roles mid-performance. Fiery solos from EVERY band member. 3-part horn compositions that’ll give you chills. The kind of energy that turns a room into a movement. \nThis isn’t just any band—it’s an EXPERIENCE. And they’re stopping in Ithaca for ONE weekend on their East Coast tour to break in our space. \n💀 FRIDAY THE 13TH at 8PM\nThe inaugural Room K performance. Make history with us on the unluckiest night of the year. \n💕 VALENTINE’S DAY at 8PM\nShow #2. The most romantic debut imaginable. \nThis is IT. The moment Room K comes alive for the first time before the grand opening. Before the crowds. Before anyone else. \nYou’ll be able to say you were there for the FIRST show ever in Room K! \nHistory doesn’t repeat itself. Be part of ours! \nGet your tickets here:\nhttps://www.eventbrite.com/e/k-house-surprise-pre-opening-show-w-bang-bang-experience-tickets-1982531425863?aff=oddtdtcreator
URL:https://www.downtownithaca.com/event/k-house-surprise-pre-opening-show-bang-bang-experience/2026-02-14/
LOCATION:K-House Karaoke & Arts Hub\, 121 W Martin Luther King Jr St\, Ithaca\, 14850
CATEGORIES:Featured
ATTACH;FMTTYPE=image/jpeg:https://www.downtownithaca.com/wp-content/uploads/bangbangfeb1314.jpg
END:VEVENT
END:VCALENDAR