BEGIN:VCALENDAR
VERSION:2.0
PRODID:-//Downtown Ithaca - ECPv6.15.20//NONSGML v1.0//EN
CALSCALE:GREGORIAN
METHOD:PUBLISH
X-WR-CALNAME:Downtown Ithaca
X-ORIGINAL-URL:https://www.downtownithaca.com
X-WR-CALDESC:Events for Downtown Ithaca
REFRESH-INTERVAL;VALUE=DURATION:PT1H
X-Robots-Tag:noindex
X-PUBLISHED-TTL:PT1H
BEGIN:VTIMEZONE
TZID:America/New_York
BEGIN:DAYLIGHT
TZOFFSETFROM:-0500
TZOFFSETTO:-0400
TZNAME:EDT
DTSTART:20250309T070000
END:DAYLIGHT
BEGIN:STANDARD
TZOFFSETFROM:-0400
TZOFFSETTO:-0500
TZNAME:EST
DTSTART:20251102T060000
END:STANDARD
BEGIN:DAYLIGHT
TZOFFSETFROM:-0500
TZOFFSETTO:-0400
TZNAME:EDT
DTSTART:20260308T070000
END:DAYLIGHT
BEGIN:STANDARD
TZOFFSETFROM:-0400
TZOFFSETTO:-0500
TZNAME:EST
DTSTART:20261101T060000
END:STANDARD
BEGIN:DAYLIGHT
TZOFFSETFROM:-0500
TZOFFSETTO:-0400
TZNAME:EDT
DTSTART:20270314T070000
END:DAYLIGHT
BEGIN:STANDARD
TZOFFSETFROM:-0400
TZOFFSETTO:-0500
TZNAME:EST
DTSTART:20271107T060000
END:STANDARD
END:VTIMEZONE
BEGIN:VEVENT
DTSTART;TZID=America/New_York:20260427T180000
DTEND;TZID=America/New_York:20260427T200000
DTSTAMP:20260424T180959
CREATED:20260317T024836Z
LAST-MODIFIED:20260317T024836Z
UID:10006877-1777312800-1777320000@www.downtownithaca.com
SUMMARY:One Night With You: Elvis Dinner Show Comes to K-HOUSE Karaoke & Arts Hub
DESCRIPTION:K-HOUSE Karaoke & Arts Hub invites oldies lovers to spend an evening with Elvis. One Night With You is a dinner show featuring the comedy and vocal stylings of The King himself\, a three-course meal and guest performances\, all in the intimate setting of Room K (formerly The Downstairs). \nElvis\, who has been touring small-town venues since his supposed death in 1977\, tells hilarious stories about his life\, interspersed with classic songs\, underrated tracks and beloved covers\, during the 90-minute show. Duets throughout the evening will feature stars from the rock & roll era\, including Neil Diamond and guest interaction and accompaniment are encouraged. Blending live performance with dinner theatre and the dietary restrictions of the aging The King\, guests will enjoy a healthy meal with gluten-free and vegetarian options\, as well as some of Elvis’ favorite treats.   \n“If you’ve got a suspicious mind and want the full story\, you’ll just have to come hear it from The King himself.” -Sylvie Froncek\, producer of One Night With You \nThe show takes place on the fourth Monday of each month at K-HOUSE this spring. Tickets include dinner and the show. Beverages will be available to purchase from the bar.  \nUpcoming performances include:\n• Monday\, March 23 — 7:00 PM – 9:00 PM\n• Monday\, April 27 — 6:00 PM – 8:00 PM and 8:00 PM – 10:00 PM (during Old Greeny Fringe Fest)\n• Monday\, May 25 — 7:00 PM – 9:00 PM \nTickets are $35 per person or $120 for a table of four\, and reservations are required. \nGuests can expect an evening of classic songs\, theatrical storytelling\, and opportunities to interact with Elvis and sing-along.  \nReservations:\nhttps://www.viecycle.com/elvis-dinner-show.html
URL:https://www.downtownithaca.com/event/one-night-with-you-elvis-dinner-show-comes-to-k-house-karaoke-arts-hub/2026-04-27/1/
LOCATION:K-House Karaoke & Arts Hub\, 121 W Martin Luther King Jr St\, Ithaca\, 14850
CATEGORIES:Featured
ATTACH;FMTTYPE=image/png:https://www.downtownithaca.com/wp-content/uploads/1000034211-scaled.png
END:VEVENT
BEGIN:VEVENT
DTSTART;TZID=America/New_York:20260503T160000
DTEND;TZID=America/New_York:20260503T183000
DTSTAMP:20260424T180959
CREATED:20260408T210413Z
LAST-MODIFIED:20260408T210413Z
UID:10007070-1777824000-1777833000@www.downtownithaca.com
SUMMARY:Into the Woods Drag Shadow Cast
DESCRIPTION:Once upon a time\, Cinderella pines to make a cameo at the ball\, Jack (of beanstalk fame) tends to his pet cow\, Little Red Riding Hood sets off toward grandmother’s house and a baker and his wife discover they are barren\, thanks to a curse from the neighboring witch. \nThey all head into the woods and embark on remarkable journeys that include falling in love\, slaying a giant\, facing off with a wolf and more. \nJust when all wishes appear to be granted\, a stray magic bean sprouts a second stalk and the giant’s vengeful wife disrupts everyone’s happy ending. Featuring beloved music and classic fairy tale characters\, this heartfelt musical explores what happens after “happily ever after.” \nWith musical numbers re-imagined and reinterpreted through the artistry of Drag\, all while the movie plays in the background\, this fantastical show features some of Ithaca’s brightest drag performers. Get your tickets today\, to see this show like you never have before! \nDirected by Tilia Cordata and Just Alex \n4:00 pm showing will not have alcohol sales \n8:00 pm showing will feature a full bar
URL:https://www.downtownithaca.com/event/into-the-woods-drag-shadow-cast/2026-05-03/1/
LOCATION:K-House Karaoke & Arts Hub\, 121 W Martin Luther King Jr St\, Ithaca\, 14850
CATEGORIES:Featured
ATTACH;FMTTYPE=image/jpeg:https://www.downtownithaca.com/wp-content/uploads/instagram-Into-the-Woods.jpg
ORGANIZER;CN="QSpace":MAILTO:marketingkhouse@gmail.com
END:VEVENT
BEGIN:VEVENT
DTSTART;TZID=America/New_York:20260505T190000
DTEND;TZID=America/New_York:20260505T210000
DTSTAMP:20260424T180959
CREATED:20260406T144513Z
LAST-MODIFIED:20260406T144558Z
UID:10007054-1778007600-1778014800@www.downtownithaca.com
SUMMARY:ComedyHOF Open Mic Night in Room K - K-HOUSE Karaoke & Arts Hub
DESCRIPTION:ComedyHOF Open Mic at K-HOUSE\nA focused room for the craft of comedy. \nComedy HOF presents a monthly stand-up open mic in Room K @ K-HOUSE Karaoke & Arts Hub\, hosted by Ben Mumford-Zisk\nThis is a high-energy night for comedians and audiences who care about timing\, material\, and the work of stand-up. \nEach comic gets five minutes in an intimate\, attentive room designed for connection. Whether you’re testing new jokes\, sharpening a set\, or just here to laugh\, Room K is a space where comedy is taken seriously — and still fun.\nThis is where momentum starts! Come early\, get on the list\, and be part of a growing comedy scene. \n📍 K-HOUSE Karaoke & Arts Hub\, 121 W State St\, Room K (Downstairs)\, Ithaca\, NY\n🔁 1st Tuesday of every month\n🎙 Hosted by Ben Mumford-Zisk\n🎭 Presented by Comedy HOF\n🕖 Show: 7:00 to 9:00 PM | Sign-ups begin @ 6:45 PM
URL:https://www.downtownithaca.com/event/comedyhof-open-mic-night-in-room-k-k-house-karaoke-arts-hub/2026-05-05/
LOCATION:K-House Karaoke & Arts Hub\, 121 W Martin Luther King Jr St\, Ithaca\, 14850
CATEGORIES:Featured
ATTACH;FMTTYPE=image/jpeg:https://www.downtownithaca.com/wp-content/uploads/standupcomedyhof-1.jpg
END:VEVENT
END:VCALENDAR