BEGIN:VCALENDAR
VERSION:2.0
PRODID:-//Downtown Ithaca - ECPv6.15.20//NONSGML v1.0//EN
CALSCALE:GREGORIAN
METHOD:PUBLISH
X-WR-CALNAME:Downtown Ithaca
X-ORIGINAL-URL:https://www.downtownithaca.com
X-WR-CALDESC:Events for Downtown Ithaca
REFRESH-INTERVAL;VALUE=DURATION:PT1H
X-Robots-Tag:noindex
X-PUBLISHED-TTL:PT1H
BEGIN:VTIMEZONE
TZID:America/New_York
BEGIN:DAYLIGHT
TZOFFSETFROM:-0500
TZOFFSETTO:-0400
TZNAME:EDT
DTSTART:20220313T070000
END:DAYLIGHT
BEGIN:STANDARD
TZOFFSETFROM:-0400
TZOFFSETTO:-0500
TZNAME:EST
DTSTART:20221106T060000
END:STANDARD
BEGIN:DAYLIGHT
TZOFFSETFROM:-0500
TZOFFSETTO:-0400
TZNAME:EDT
DTSTART:20230312T070000
END:DAYLIGHT
BEGIN:STANDARD
TZOFFSETFROM:-0400
TZOFFSETTO:-0500
TZNAME:EST
DTSTART:20231105T060000
END:STANDARD
BEGIN:DAYLIGHT
TZOFFSETFROM:-0500
TZOFFSETTO:-0400
TZNAME:EDT
DTSTART:20240310T070000
END:DAYLIGHT
BEGIN:STANDARD
TZOFFSETFROM:-0400
TZOFFSETTO:-0500
TZNAME:EST
DTSTART:20241103T060000
END:STANDARD
BEGIN:DAYLIGHT
TZOFFSETFROM:-0500
TZOFFSETTO:-0400
TZNAME:EDT
DTSTART:20250309T070000
END:DAYLIGHT
BEGIN:STANDARD
TZOFFSETFROM:-0400
TZOFFSETTO:-0500
TZNAME:EST
DTSTART:20251102T060000
END:STANDARD
BEGIN:DAYLIGHT
TZOFFSETFROM:-0500
TZOFFSETTO:-0400
TZNAME:EDT
DTSTART:20260308T070000
END:DAYLIGHT
BEGIN:STANDARD
TZOFFSETFROM:-0400
TZOFFSETTO:-0500
TZNAME:EST
DTSTART:20261101T060000
END:STANDARD
END:VTIMEZONE
BEGIN:VEVENT
DTSTART;TZID=America/New_York:20250704T170000
DTEND;TZID=America/New_York:20250704T200000
DTSTAMP:20260424T221721
CREATED:20250630T191625Z
LAST-MODIFIED:20250630T191625Z
UID:10004833-1751648400-1751659200@www.downtownithaca.com
SUMMARY:MIX Art Gallery's Opening Reception for "Human Nature" with Sculptor/Poet Shawn Bridget Hull
DESCRIPTION:At MIX Art Gallery’s main showroom on the Ithaca Commons this month\, we have our new exhibition entitled “Human Nature” by sculptor and poet\, Shawn Bridget Hull\, also featuring the most recent pastel drawing by Trumansburg’s celebrated artist Joy Adams\, and photos of human nature by Wendy Gherity.   \nFor Shawn\, sculpting in clay isn’t just art\, it’s a profound dialogue — a conversation between artist\, material\, and observer. Working exclusively with porcelain\, Shawn finds beauty in its fragility\, transforming it into a testament of strength through the fiery kiln.\nHer art springs from nature’s forms\, each curve and contour infused with personal narrative\, weaving a tapestry of metaphor. Poetry and storytelling aren’t separate\, but rather the very essence of her sculptural creations\, exploring the profound unity between humanity and the natural world. “Nature doesn’t merely surround us; it is us\,” she emphasizes. \nShawn’s narratives are subtle\, intimate whispers designed to resonate deeply within the viewer’s imagination. Each sculpture is an invitation—a direct communication that transcends the physical form\, bridging her world with theirs. The intensely personal becomes universally understood. \nIn these speaking sculptures\, color acts as a silent language\, a key unlocking deeper meaning. Shawn aspires to forge a powerful connection\, to stir emotions\, and to ignite a spark of recognition. Her ultimate hope is to reveal how our interactions with one another mirror our relationship with nature\, fostering a deeper\, more mindful consideration of both. \nCome see “Human Nature” at MIX Art Gallery this July 4-26th. Open THURSDAYS & FRIDAYS 3-7\, and SATURDAYS 12-6.  We are on the 2nd floor of 156 E. State Street\, right on the Ithaca Commons\, or visit our online store at www.mixartgallery.com/shop-artists.
URL:https://www.downtownithaca.com/event/mix-art-gallerys-opening-reception-for-human-nature-with-sculptor-poet-shawn-bridget-hull/
LOCATION:MIX Art Gallery\, 156 E. State Street\, Ithaca\, 14850
CATEGORIES:Featured
ATTACH;FMTTYPE=image/png:https://www.downtownithaca.com/wp-content/uploads/Human-Nature-Flyer-w.-MIX-logo.png
ORGANIZER;CN="MIX Art Gallery":MAILTO:contact@mixartgallery.com
END:VEVENT
BEGIN:VEVENT
DTSTART;TZID=America/New_York:20250502T170000
DTEND;TZID=America/New_York:20250502T200000
DTSTAMP:20260424T221721
CREATED:20250428T142732Z
LAST-MODIFIED:20250428T142732Z
UID:10004655-1746205200-1746216000@www.downtownithaca.com
SUMMARY:MIX Art Gallery opening for "Painting as a Second Act" with Donna Atwood\, Elizabeth Sprout\, InShik Lee\, and Rachel Dickinson
DESCRIPTION:MIX Art Gallery is excited to present our new exhibition – all works are for sale! \nTwo retired schoolteachers\, one architect\, and a writer have collaborated to bring you the May 2025 show Painting as a Second Act at the MIX Art Gallery in Ithaca\, NY.  Donna Atwood\, Elizabeth Sprout\, InShik Lee\, and Rachel Dickinson are showing paintings of all sizes and mediums. What these women have in common is their love of creating art. For them\, painting is a source of pleasure and personal expression that gives shape and\, in some cases\, respite in their second acts in life. \nMeet at least one of these four ladies throughout May at MIX- Our open gallery hours are Thursday and Friday\, 3-7\, and Saturdays\, 12-6.  Shop online anytime at www.mixartgallery.com/shop-artists. \nDid you know you can RENT out the gallery space for your special event or art show?  You can also RENT one of 4 walls to show your artwork for a month or two!!!  Contact wendy@mixartgallery.com to inquire and book your experience today. \nMIX Art Gallery is located at 156 E. State Street\, on the 2nd floor\, on the beautiful Ithaca Commons\, in Ithaca\, NY.
URL:https://www.downtownithaca.com/event/mix-art-gallery-opening-for-painting-as-a-second-act-with-donna-atwood-elizabeth-sprout-inshik-lee-and-rachel-dickinson/
LOCATION:MIX Art Gallery\, 156 E. State Street\, Ithaca\, 14850
CATEGORIES:Featured
ATTACH;FMTTYPE=image/png:https://www.downtownithaca.com/wp-content/uploads/Painting-as-a-Second-Act.png
ORGANIZER;CN="MIX Art Gallery":MAILTO:contact@mixartgallery.com
END:VEVENT
BEGIN:VEVENT
DTSTART;TZID=America/New_York:20250404T170000
DTEND;TZID=America/New_York:20250404T200000
DTSTAMP:20260424T221721
CREATED:20250402T035321Z
LAST-MODIFIED:20250402T035321Z
UID:10004514-1743786000-1743796800@www.downtownithaca.com
SUMMARY:MIX Art Gallery’s OPENING RECEPTION for artist Tia Eytina – Friday\, April 4th\, 5-8pm
DESCRIPTION:Throughout April 2025 MIX Art Gallery is proud to welcome back mixed-media abstract artist Santia Eytina\, “Tia” for short\, who is presenting her new series  “Uncharted Realities\,” opening on April 4th and on view through April 26th.  In her first show at MIX in October 2024\, Eytina’s artwork was sold to collectors and art lovers from Ithaca to New York City and even made the journey to a new home in France.  It was a captivating show\, and so\, we are thrilled to see her back at MIX.  Join us Thursdays and Fridays 3-7\, and Saturdays 12-6 to experience Tia’s Uncharted Realities!
URL:https://www.downtownithaca.com/event/mix-art-gallerys-opening-reception-for-artist-tia-eytina-friday-april-4th-5-8pm/
LOCATION:MIX Art Gallery\, 156 E. State Street\, Ithaca\, 14850
CATEGORIES:Featured
ATTACH;FMTTYPE=image/png:https://www.downtownithaca.com/wp-content/uploads/Uncharted-Realities-no-BG.png
ORGANIZER;CN="MIX Art Gallery":MAILTO:contact@mixartgallery.com
END:VEVENT
BEGIN:VEVENT
DTSTART;TZID=America/New_York:20250329T160000
DTEND;TZID=America/New_York:20250329T180000
DTSTAMP:20260424T221721
CREATED:20250326T183606Z
LAST-MODIFIED:20250326T183606Z
UID:10004504-1743264000-1743271200@www.downtownithaca.com
SUMMARY:MIX Art Gallery Closing Reception for March Mad Lust with music by Johnny Dowd ~ Saturday March 29th 4-6PM
DESCRIPTION:Join us for the 20-artist\, mixed media Group Show “March Mad Lust” Closing Reception with music by Johnny Dowd on Saturday\, March 29th\, from 4-6 pm at MIX Art Gallery\, Ithaca. There will be live music\, libations\, and nosh… and of course\, art\, art\, and more art!  \n“The work is not complete until you are here to experience it ~ we’ll see you soon at MIX!” \nMIX Art Gallery is located on the Ithaca Commons (next to American Crafts by Robbie Dein) at 156 E. State Street\, a 2nd-floor walkup.   \nMIX Contemporary Art Gallery featuring urban to upscale\, thoughtful to cool\, art for you.  Artists\, both local and beyond showing mixed media.  All artwork is for sale.  Visit www.mixartgallery.com for more details.\n~~~ \nWHAT:   MIX Art Gallery presents: Closing Reception for March Mad Lust Group Show with music by Johnny Dowd \nWHEN:  Saturday\, March 29th\, 2025 4-6 PM  \nWHERE:  MIX Art Gallery\, 156 State St. (2nd Floor) “On the Commons” Ithaca\, NY 14850
URL:https://www.downtownithaca.com/event/mix-art-gallery-closing-reception-for-march-mad-lust-with-music-by-johnny-dowd-saturday-march-29th-4-6pm/
LOCATION:MIX Art Gallery\, 156 E. State Street\, Ithaca\, 14850
CATEGORIES:Featured
ATTACH;FMTTYPE=image/jpeg:https://www.downtownithaca.com/wp-content/uploads/March-Mad-Lust-Closing-Reception.jpg
ORGANIZER;CN="MIX Art Gallery":MAILTO:contact@mixartgallery.com
END:VEVENT
BEGIN:VEVENT
DTSTART;TZID=America/New_York:20250307T170000
DTEND;TZID=America/New_York:20250307T200000
DTSTAMP:20260424T221721
CREATED:20250305T160940Z
LAST-MODIFIED:20250305T160940Z
UID:10004458-1741366800-1741377600@www.downtownithaca.com
SUMMARY:OPENING for 20 artist group show "March Mad Lust" at MIX Art Gallery on the Ithaca Commons\, Friday March 7th 5-8 pm
DESCRIPTION:MIX Art Gallery is excited to host a very diverse and gorgeous group exhibition opening March 7th from 5-8 PM.    “March Mad Lust!” This is a collection of 20\, mostly local\, artists showing a variety of media – and the art is for sale!  We have sculptural art from John & Jif Dowd\, Bella Sloan and Jill Ausfeld; photography from  Joe Ziolkowski\, Maxwell Harvey-Sampson\, Jenna Petrone\, Gloriana Allnatt\, Noah Felix Klett and Wendy Gherity; paintings by Julie Waltz-Stalker\, Rafe Harpending\, Linda Fazzary\, Josh Parrott\, Nathan Dann\, Basil Bakhshi\, Ginny O’Brien; collage by Makayla Bunce; fiber art paintings by Sarah Lopez; and mixed media works from Aiden Paddlety\, John & Jif Dowd\, Amy Hauer and Ginny O’Brien.   Wow!  You don’t want to miss this one.  It will be on view from March 7th-29th.  We are open Thursdays and Fridays 3-7\, Saturdays 12-6\, and any other day by appointment.  \nYou can also browse MIX Art Gallery’s online store if you please. View the works in the “March Mad Lust” web-store\, www.mixartgallery.com/shop-march-mad-lust and dream big! These pieces may only be around for March\, so don’t wait! The favorites go fast.  Need more art than that?  There are 15 additional talented and diverse artists represented in MIX Art Gallery’s online store at the moment\, so we’ll bet you find something you like…  and also\, something you love…  and possibly\, something you “March Mad Lust” after!!!
URL:https://www.downtownithaca.com/event/opening-for-20-artist-group-show-march-mad-lust-at-mix-art-gallery-on-the-ithaca-commons-friday-march-7th-5-8-pm/
LOCATION:MIX Art Gallery\, 156 E. State Street\, Ithaca\, 14850
CATEGORIES:Featured
ATTACH;FMTTYPE=image/png:https://www.downtownithaca.com/wp-content/uploads/March-Mad-Lust-Dates.png
ORGANIZER;CN="MIX Art Gallery":MAILTO:contact@mixartgallery.com
END:VEVENT
BEGIN:VEVENT
DTSTART;TZID=America/New_York:20250207T170000
DTEND;TZID=America/New_York:20250207T200000
DTSTAMP:20260424T221721
CREATED:20250130T141249Z
LAST-MODIFIED:20250130T141249Z
UID:10004421-1738947600-1738958400@www.downtownithaca.com
SUMMARY:MIX Art Gallery presents "Interact with Abstract" art opening on Ithaca's Gallery Night\, Friday\, Feb. 8th 5-8PM
DESCRIPTION:February’s exhibition at MIX Art Gallery showcases a new face in the local art scene. Peter “Rafe” Harpending\, originally from Elmira\, NY\, now resides in Ithaca. With a naturally inquisitive spirit\, he describes his personality as a gradient of colors from yellow and orange to red. It’s no surprise that his drawings reflect his degree in Biology\, as his artistic interests focus on “living things” from various clades. While there are many detailed drawings of insects\, birds\, fish\, and more that will be available\, the highlighted works on our gallery walls will primarily be his mesmerizing abstracts.  \n“I must have had an innate urge to create a visual world\, starting at a very young age—perhaps as early as I could talk. Additionally\, my mother appreciated modern art\, and that early exposure motivated me to create.” Harpending draws inspiration primarily from modern abstract art\, and his biggest influences include Mondrian\, Klimt\, Dali\, Klee\, John McLaughlin\, Pollock\, and Georgia O’Keeffe\, among others. “I’m fascinated by the fact that humans are both ordered and biological beings!  The order represented in many of my geometric pieces is juxtaposed with disruptive visual elements.  This expresses an obsession with the tension between order and chaos\, the notion that humans can create a thin veneer of spatial and temporal structure\, but underneath lies the inevitable turbulent and maddening realm of nature.”  \nAlmost reminiscent of Native American art\, these abstract pieces are both compelling and captivating\, and whether on paper or simple board\, they are attractively priced. A must-see this February showing through March 1st\, 2025.
URL:https://www.downtownithaca.com/event/mix-art-gallery-presents-interact-with-abstract-art-opening-on-ithacas-gallery-night-friday-feb-8th-5-8pm/
LOCATION:MIX Art Gallery\, 156 E. State Street\, Ithaca\, 14850
CATEGORIES:Featured
ATTACH;FMTTYPE=image/png:https://www.downtownithaca.com/wp-content/uploads/Rafe-Harpending-opening-22025.png
ORGANIZER;CN="MIX Art Gallery":MAILTO:contact@mixartgallery.com
END:VEVENT
BEGIN:VEVENT
DTSTART;TZID=America/New_York:20250129T080000
DTEND;TZID=America/New_York:20250215T230000
DTSTAMP:20260424T221721
CREATED:20250130T051542Z
LAST-MODIFIED:20250130T051542Z
UID:10004422-1738137600-1739660400@www.downtownithaca.com
SUMMARY:MIX Art Gallery presents March OPEN CALL FOR ARTISTS!
DESCRIPTION:Would YOU like to be a part of Ithaca’s art scene?!\nMIX Art Gallery is ready to heat things up in March with an OPEN CALL for our new group show entitled\, “March-Mad-Lust”.  As artists\, we enjoy exploring the full range of emotions available to use in our creative process!  The passion and heat we create between us is how we survive as a species… and it’s cold out there!  So\, let’s explore March madness with some HEAT!  Submit up to 3 pieces of art for $35 at\nhttps://www.mixartgallery.com/artist-submissions/p/march-mad-lust-group-art-show-submission\nOr follow the QR code to our website and show us your work by February 15th\, 2025.   \nEntries are now being accepted for a group art show themed “March-Mad-Lust” at MIX Art Gallery & Event Space. \nAll artistic media\, both 2D & 3D\, will be considered. \nThe entry fee is $35. \nThe submission deadline for completing your entry will be 11pm\, February 15th\, 2025 \nThe show will run from March 7th – March 29th\, 2025 \nArtwork will be presented both in our gallery and simultaneously on-line.
URL:https://www.downtownithaca.com/event/mix-art-gallery-presents-march-open-call-for-artists/
LOCATION:MIX Art Gallery\, 156 E. State Street\, Ithaca\, 14850
CATEGORIES:Featured
ATTACH;FMTTYPE=image/png:https://www.downtownithaca.com/wp-content/uploads/March-2025-submit-QR-code.png
ORGANIZER;CN="MIX Art Gallery":MAILTO:contact@mixartgallery.com
END:VEVENT
BEGIN:VEVENT
DTSTART;TZID=America/New_York:20240906T170000
DTEND;TZID=America/New_York:20240906T200000
DTSTAMP:20260424T221721
CREATED:20240905T135833Z
LAST-MODIFIED:20240905T135833Z
UID:10004117-1725642000-1725652800@www.downtownithaca.com
SUMMARY:MIX Art Gallery presents Elizabeth McMahon's "The Moon Tipped Her Hat" Opening Sept. 6th\, 5-8pm
DESCRIPTION:Elizabeth McMahon\, “shape maker\,” is an artist whose love of color and happenstance has inspired her work from painting to songwriting\, puppetry to collage. She uses a collage process to build her large assemblages and smaller compositions with painted paper cut-outs\, colored tape\, and yarn. \nMcMahon studied Fashion at Parsons School of Design and Painting at Syracuse University. While raising a family\, she shifted her focus to puppetry and songwriting\, winning a Parent Choice Award for her recording\, Waltzing with Fireflies in 1994. Recent work has returned to the visual format\, showing with the Var Gallery\, Milwaukee 2020\, 64Arts\, Illinois 2021\, and a virtual solo exhibition facilitated by Roaring Artist Gallery 2022. \nThis September\, she will take over Mix Art Gallery with her latest work\, The Moon Tipped Her Hat\, OPENING on September 6th from 5-8 pm\, and running through September 28th.
URL:https://www.downtownithaca.com/event/mix-art-gallery-presents-elizabeth-mcmahons-the-moon-tipped-her-hat-opening-sept-6th-5-8pm/
LOCATION:MIX Art Gallery\, 156 E. State Street\, Ithaca\, 14850
CATEGORIES:Featured
ATTACH;FMTTYPE=image/jpeg:https://www.downtownithaca.com/wp-content/uploads/The-Moon-Tipper-Her-Hat.jpg
ORGANIZER;CN="MIX Art Gallery":MAILTO:contact@mixartgallery.com
END:VEVENT
BEGIN:VEVENT
DTSTART;VALUE=DATE:20240801
DTEND;VALUE=DATE:20240901
DTSTAMP:20260424T221721
CREATED:20240521T144700Z
LAST-MODIFIED:20240528T044849Z
UID:10003940-1722470400-1725148799@www.downtownithaca.com
SUMMARY:Seeing Ithaca:  through the eyes of artists
DESCRIPTION:This year State of the Art Gallery Ithaca will again be sponsoring Seeing Ithaca Through the Eyes of Artists. It will take place during the month of August 2024. \nLast year’s event included nine galleries\, each gallery exhibiting art on the broad theme “Seeing Ithaca”. This year we are expanding the scope to include galleries\, artists with studios\, and businesses and other venues that show art. For an updated list of venues\, Click here to head to our website \nArtists will have their studios open August 10\, 12–5. Galleries and other venues will celebrate Gallery Night on August 2\, 5–8.
URL:https://www.downtownithaca.com/event/seeing-ithaca-through-the-eyes-of-artists/
LOCATION:State of the Art Gallery\, 120 W State St #2\, Ithaca\, 14850\, United Kingdom
CATEGORIES:Featured
ATTACH;FMTTYPE=image/png:https://www.downtownithaca.com/wp-content/uploads/Screen-Shot-2024-05-21-at-10.14.53-AM.png
ORGANIZER;CN="State of the Art Gallery":MAILTO:gallery@soag.org
END:VEVENT
BEGIN:VEVENT
DTSTART;TZID=America/New_York:20240705T170000
DTEND;TZID=America/New_York:20240705T200000
DTSTAMP:20260424T221721
CREATED:20240701T142911Z
LAST-MODIFIED:20240701T142911Z
UID:10004020-1720198800-1720209600@www.downtownithaca.com
SUMMARY:Art opening of “Surrealismo De Ensueño” by Yen Ospina\, at MIX Art Gallery 156 "On the Commons"
DESCRIPTION:Friday\, July 5th\, on Ithaca’s Gallery Night\, please join us from 5-8 pm for the art opening of “Surrealismo De Ensueño” by local Colombian-American artist Yen Ospina\, at MIX Art Gallery at 156 “On the Commons” Ithaca\, NY. \nMIX Art Gallery is proud to present “Surrealismo de Ensueño.” This is not just a series; it’s a visual odyssey into our subconscious minds’ enigmatic and whimsical nature. It’s a celebration of the freedom that dreams grant us during the nightly voyage. Featuring live music by Emmett Scott. \nSpecial Instructions: Bring headphones and ensure you’re connected to the internet. The playlist will be available on YouTube and Spotify.
URL:https://www.downtownithaca.com/event/art-opening-of-surrealismo-de-ensueno-by-yen-ospina-at-mix-art-gallery-156-on-the-commons/
LOCATION:MIX Art Gallery\, 156 E. State Street\, Ithaca\, 14850
CATEGORIES:Featured
ATTACH;FMTTYPE=image/png:https://www.downtownithaca.com/wp-content/uploads/Y.-Ospina-Opening-Flyer-1.png
ORGANIZER;CN="MIX Art Gallery":MAILTO:contact@mixartgallery.com
END:VEVENT
BEGIN:VEVENT
DTSTART;TZID=America/New_York:20240405T170000
DTEND;TZID=America/New_York:20240405T200000
DTSTAMP:20260424T221721
CREATED:20240402T135300Z
LAST-MODIFIED:20240402T135300Z
UID:10003763-1712336400-1712347200@www.downtownithaca.com
SUMMARY:MIX Art Gallery opens “LUXE” Friday\, April 5th 5-8PM ~ New Works by Ivy Stevens-Gupta
DESCRIPTION:On this Ithaca Gallery Night\, April 5th\, from 5-8PM\, MIX Art Gallery is pleased to present our new exhibition\, “LUXE” by Ivy Stevens-Gupta. Explore the opulent and dynamic realm of Ivy’s artistry as she masterfully intertwines painting and sculpture to create captivating new pieces. Join us for an insightful journey into Ivy’s innovative approach with a night of conversation\, art\, and community! \nThis event is part of First Friday Ithaca Gallery Night openings.
URL:https://www.downtownithaca.com/event/mix-art-gallery-opens-luxe-friday-april-5th-5-8pm-new-works-by-ivy-stevens-gupta/
LOCATION:MIX Art Gallery\, 156 E. State Street\, Ithaca\, 14850
CATEGORIES:Featured
ATTACH;FMTTYPE=image/jpeg:https://www.downtownithaca.com/wp-content/uploads/LUXE-by-IVY-Apr-24-Flyer.jpg
ORGANIZER;CN="MIX Art Gallery":MAILTO:contact@mixartgallery.com
END:VEVENT
BEGIN:VEVENT
DTSTART;TZID=America/New_York:20240301T170000
DTEND;TZID=America/New_York:20240301T200000
DTSTAMP:20260424T221721
CREATED:20240226T142732Z
LAST-MODIFIED:20240226T142732Z
UID:10003663-1709312400-1709323200@www.downtownithaca.com
SUMMARY:EYE SEE YOU will open on Friday\, March 1st\, at MIX Art Gallery at 156 “On the Commons” from 5-8PM
DESCRIPTION:EYE SEE YOU will open on Friday\, March 1st\, at MIX Art Gallery at 156 “On the Commons” from 5-8PM and will run from March 1st-30th\, 2024. \nMIX Art Gallery is excited to announce this new\, multi-artist exhibition\, “EYE SEE YOU” opening on Gallery Night Ithaca\, Friday\, March 1st\, and will be on display from March 1-31st. This show includes abstract oil paintings on paper from Jeffrey Hansen’s Non-Zero-Sum Color Wheel Series. These striking and bold triptychs with primary and secondary color wheels are set against an atmosphere of neutral tones\, creating depth and a sense of serenity. MIX also hosts the black and white film photography of Wendy Gherity\, skillfully capturing street scenes of her old haunt in 1990’s Greenwich Village\, NY\, and finally\, an eye-popping film installation entitled “New Eyes” by local artist and former gallery owner\, Ben Bookout. \nJoin us at the opening reception Friday\, March 1st from 5-8 pm at MIX Art Gallery \n“The work is not complete until you are here to experience it ~ we’ll see you soon at MIX!” \nMIX Art Gallery is located on the Ithaca Commons (next to American Crafts by Robbie Dein) at 156 E. State Street\, a 2nd floor walkup. \nMIX Contemporary Art Gallery featuring urban to upscale\, thoughtful to cool\, art for you. Artists\, both local and beyond showing mixed media. All artwork is for sale.\nVisit www.mixartgallery.com for more details.
URL:https://www.downtownithaca.com/event/eye-see-you-will-open-on-friday-march-1st-at-mix-art-gallery-at-156-on-the-commons-from-5-8pm/
LOCATION:MIX Art Gallery\, 156 E. State Street\, Ithaca\, 14850
CATEGORIES:Featured
ATTACH;FMTTYPE=image/png:https://www.downtownithaca.com/wp-content/uploads/EYE-SEE-YOU-blue-1.png
ORGANIZER;CN="MIX Art Gallery":MAILTO:contact@mixartgallery.com
END:VEVENT
BEGIN:VEVENT
DTSTART;TZID=America/New_York:20231006T170000
DTEND;TZID=America/New_York:20231006T200000
DTSTAMP:20260424T221721
CREATED:20231002T145705Z
LAST-MODIFIED:20231002T145705Z
UID:10003242-1696611600-1696622400@www.downtownithaca.com
SUMMARY:MIX Art Gallery's Opening Reception for Robert Mirek\, Fri\, Oct 6th *5-8PM
DESCRIPTION:Friday\, October 06\, 2023 \, 5:00pm-8:00pm \nLocation: \nMIX Art Gallery and Event Space\n156 E State St (On the Commons)\nIthaca\, NY\nPrice Free—donations accepted – all artwork is for sale \nDescription: \nMeet artist\, Robert Mirek\, Friday\, October 6th from 5-8 pm at MIX Art Gallery for the OPENING RECEPTION of an enchanting exhibit of relief wall sculpture and more – a retrospective look at 100 works from 25 years. \nMIX Art Gallery is excited to announce Robert Mirek’s new exhibition\, “Points of Departure\,” which will run from October 6th to November 25th\, 2023. Based in Detroit\, Mirek is an artist who has committed the past 45 years to his creative journey of crafting distinctive artwork series. These series encompass a variety of materials\, including aluminum\, silicone rubber\, acrylic paints\, and more. This exhibition offers a retrospective glimpse into his journey\, featuring a curated selection of 100 pieces created over the past 25 years \nJoin us at the opening reception Friday\, October 6th from 5-8 pm at MIX Art Gallery \n“The work is not complete until you are here to experience it\, so we’ll see you soon at MIX!” \nMIX Art Gallery is located on the Ithaca Commons (next to American Crafts by Robbie Dein) at 156 E. State Street\, 2nd floor walk up \nEvent Contact: \ncontact@mixartgallery.com\n(607) 319-4364
URL:https://www.downtownithaca.com/event/mix-art-gallerys-opening-reception-for-robert-mirek-fri-oct-6th-5-8pm/
LOCATION:MIX Art Gallery\, 156 E. State Street\, Ithaca\, 14850
ATTACH;FMTTYPE=image/jpeg:https://www.downtownithaca.com/wp-content/uploads/Robert-Mirek-Photo-2-scaled.jpeg
ORGANIZER;CN="MIX Art Gallery":MAILTO:contact@mixartgallery.com
END:VEVENT
END:VCALENDAR