BEGIN:VCALENDAR
VERSION:2.0
PRODID:-//Downtown Ithaca - ECPv6.15.20//NONSGML v1.0//EN
CALSCALE:GREGORIAN
METHOD:PUBLISH
X-ORIGINAL-URL:https://www.downtownithaca.com
X-WR-CALDESC:Events for Downtown Ithaca
REFRESH-INTERVAL;VALUE=DURATION:PT1H
X-Robots-Tag:noindex
X-PUBLISHED-TTL:PT1H
BEGIN:VTIMEZONE
TZID:America/New_York
BEGIN:DAYLIGHT
TZOFFSETFROM:-0500
TZOFFSETTO:-0400
TZNAME:EDT
DTSTART:20240310T070000
END:DAYLIGHT
BEGIN:STANDARD
TZOFFSETFROM:-0400
TZOFFSETTO:-0500
TZNAME:EST
DTSTART:20241103T060000
END:STANDARD
BEGIN:DAYLIGHT
TZOFFSETFROM:-0500
TZOFFSETTO:-0400
TZNAME:EDT
DTSTART:20250309T070000
END:DAYLIGHT
BEGIN:STANDARD
TZOFFSETFROM:-0400
TZOFFSETTO:-0500
TZNAME:EST
DTSTART:20251102T060000
END:STANDARD
BEGIN:DAYLIGHT
TZOFFSETFROM:-0500
TZOFFSETTO:-0400
TZNAME:EDT
DTSTART:20260308T070000
END:DAYLIGHT
BEGIN:STANDARD
TZOFFSETFROM:-0400
TZOFFSETTO:-0500
TZNAME:EST
DTSTART:20261101T060000
END:STANDARD
END:VTIMEZONE
BEGIN:VEVENT
DTSTART;TZID=America/New_York:20250208T190000
DTEND;TZID=America/New_York:20250208T210000
DTSTAMP:20260425T082827
CREATED:20250109T174650Z
LAST-MODIFIED:20250109T174650Z
UID:10004388-1739041200-1739048400@www.downtownithaca.com
SUMMARY:NYC Meets NRE: Ithaca Comedy Night
DESCRIPTION:NYC Meets NRE: Ithaca Comedy Night\nLooking for a night of unstoppable laughter? Join us on February 8th at 7 PM at NRE in Ithaca for NYC Meets NRE: Ithaca Comedy Night\, a comedy showcase bringing the best NYC stand-up comedians to the Finger Lakes! \nFeaturing a stellar lineup of rising stars in the comedy world:\nSkyler Holzman: Founder of Cornell’s first stand-up comedy club\, Pun Intended\, and producer of NYC’s “Leg Day Comedy.”\nAnna Koppelman: Co-producer of Pucker Comedy and a professor of creative writing at NYU.\nGrace Lobo: NYC-based comic\, co-producer of Pucker Comedy\, and a New York Comedy Festival featured performer.\nMax Kaczor: Finalist in Buffalo’s Funniest and Maine’s Wicked Funny Laugh Off\, and producer of Cat Mouth Comedy. \nThis one-night-only event promises sharp wit\, hilarious observations\, and side-splitting performances from comedians taking the NYC comedy scene by storm. Whether you’re a long-time comedy fan or just looking for a fun night out\, NYC Meets NRE is your perfect dose of laughter. \nTickets: Available now!\nLocation: NRE 402 W. State St\nDate & Time: February 8th\, 7 PM \nGrab your friends and join us for an unforgettable night of laughs at NYC Meets NRE: Ithaca Comedy Night! \nFollow us on @ComedyHOF and @ComedyOnTheCommons for updates!
URL:https://www.downtownithaca.com/event/nyc-meets-nre-ithaca-comedy-night/
LOCATION:NRE Space\, 402 W. State St\, Ithaca\, 14850
ATTACH;FMTTYPE=image/png:https://www.downtownithaca.com/wp-content/uploads/EventBrite.png
END:VEVENT
END:VCALENDAR