BEGIN:VCALENDAR
VERSION:2.0
PRODID:-//Downtown Ithaca - ECPv6.15.20//NONSGML v1.0//EN
CALSCALE:GREGORIAN
METHOD:PUBLISH
X-ORIGINAL-URL:https://www.downtownithaca.com
X-WR-CALDESC:Events for Downtown Ithaca
REFRESH-INTERVAL;VALUE=DURATION:PT1H
X-Robots-Tag:noindex
X-PUBLISHED-TTL:PT1H
BEGIN:VTIMEZONE
TZID:America/New_York
BEGIN:DAYLIGHT
TZOFFSETFROM:-0500
TZOFFSETTO:-0400
TZNAME:EDT
DTSTART:20220313T070000
END:DAYLIGHT
BEGIN:STANDARD
TZOFFSETFROM:-0400
TZOFFSETTO:-0500
TZNAME:EST
DTSTART:20221106T060000
END:STANDARD
BEGIN:DAYLIGHT
TZOFFSETFROM:-0500
TZOFFSETTO:-0400
TZNAME:EDT
DTSTART:20230312T070000
END:DAYLIGHT
BEGIN:STANDARD
TZOFFSETFROM:-0400
TZOFFSETTO:-0500
TZNAME:EST
DTSTART:20231105T060000
END:STANDARD
BEGIN:DAYLIGHT
TZOFFSETFROM:-0500
TZOFFSETTO:-0400
TZNAME:EDT
DTSTART:20240310T070000
END:DAYLIGHT
BEGIN:STANDARD
TZOFFSETFROM:-0400
TZOFFSETTO:-0500
TZNAME:EST
DTSTART:20241103T060000
END:STANDARD
BEGIN:DAYLIGHT
TZOFFSETFROM:-0500
TZOFFSETTO:-0400
TZNAME:EDT
DTSTART:20250309T070000
END:DAYLIGHT
BEGIN:STANDARD
TZOFFSETFROM:-0400
TZOFFSETTO:-0500
TZNAME:EST
DTSTART:20251102T060000
END:STANDARD
BEGIN:DAYLIGHT
TZOFFSETFROM:-0500
TZOFFSETTO:-0400
TZNAME:EDT
DTSTART:20260308T070000
END:DAYLIGHT
BEGIN:STANDARD
TZOFFSETFROM:-0400
TZOFFSETTO:-0500
TZNAME:EST
DTSTART:20261101T060000
END:STANDARD
END:VTIMEZONE
BEGIN:VEVENT
DTSTART;TZID=America/New_York:20251223T150000
DTEND;TZID=America/New_York:20251223T190000
DTSTAMP:20260424T073211
CREATED:20251217T214738Z
LAST-MODIFIED:20251217T214738Z
UID:10006649-1766502000-1766516400@www.downtownithaca.com
SUMMARY:Press Bay December Holiday Food Market
DESCRIPTION:Bundle up and enjoy this open-air holiday food market as the light turns to darkness under the cozy Press Bay lights! Wander through the Press Bay Back Lot (corner of Geneva & Green St)\, the Alley and the Court to enjoy the festive atmosphere\, enjoy ready-to-eat hot food\, and pick up the local necessities for your holiday table. Press Bay Shops will be open as well as our popup guest vendors!\nLIVE MUSIC in both Press Bay Alley and Press Bay Court!
URL:https://www.downtownithaca.com/event/press-bay-december-holiday-food-market/
LOCATION:Press Bay Alley & Court\, 110-118 W. Green St.\, Ithaca\, NY\, 14850\, United States
CATEGORIES:Featured
ATTACH;FMTTYPE=image/jpeg:https://www.downtownithaca.com/wp-content/uploads/IMG_0690-scaled.jpg
ORGANIZER;CN="Urban Core":MAILTO:events@urbancoreithaca.com
END:VEVENT
BEGIN:VEVENT
DTSTART;TZID=America/New_York:20251005T110000
DTEND;TZID=America/New_York:20251005T180000
DTSTAMP:20260424T073211
CREATED:20250821T174029Z
LAST-MODIFIED:20250821T174029Z
UID:10004953-1759662000-1759687200@www.downtownithaca.com
SUMMARY:4th Annual Heritage Fiesta
DESCRIPTION:Get ready for a vibrant celebration at the 4th Annual Heritage Fiesta\, happening in the Press Bay Parking Lot on Sunday\, October 5th! 🎶🌮\n📅 11 AM – 6 PM\n📍 Press Bay Parking Lot\, Downtown Ithaca\nFounded by Yen Ospina and organized by Yen Ospina & Stacey Dimas\, this lively event promises a rich showcase of culture and tradition for everyone to enjoy.\n✨ Explore:\n🎨 Local artisans\n💃 Captivating performers\n🌮 Delicious food vendors\n🤝 Nonprofit organizations supporting the community\nIt’s a day for the whole community to come together\, celebrate\, and experience the beauty of heritage. Don’t miss out—learn more and get involved at LCATOMPKINS.ORG.\n💺 Don’t forget to bring a camping chair so you can relax and enjoy the festivities!\n☔ In case of bad weather\, please check our website and FB event page for rescheduling updates.\n—————————————-\n¡Prepárate para una celebración vibrante en la 4ª Fiesta Anual de la Herencia\, que se llevará a cabo en el estacionamiento de Press Bay el domingo 5 de octubre! 🎶🌮\n📅 11 a. m. – 6 p. m.\n📍 Estacionamiento de Press Bay\, Centro de Ithaca\nFundada por Yen Ospina y organizada por Yen Ospina & Stacey Dimas\, este animado evento promete una rica muestra de cultura y tradición para que todos disfruten.\n✨ Explora:\n🎨 Artesanos locales\n💃 Artistas y presentaciones cautivadoras\n🌮 Exquisitos vendedores de comida\n🤝 Organizaciones sin ánimo de lucro que apoyan a la comunidad\nSerá un día para que toda la comunidad se una\, celebre y experimente la belleza de la herencia cultural. ¡No te lo pierdas! Conoce más y participa en LCATOMPKINS.ORG.\n💺 ¡No olvides traer una silla de camping para que te relajes y disfrutes de las festividades!\n☔ En caso de mal clima\, por favor revisa nuestra página web y el evento en Facebook para actualizaciones sobre la reprogramación. \nThis event was made possible by: Latino Civic Association\, GIAC\, Park Foundation and partially by Statewide Community Regrant program from the New York State Council on the Arts\, with the support of the office of the Governor and NYS Legislature\, administered by the Community Arts Partnership of Tompkins County.\nFind us online:\nSitio web / website\n• LCATOMPKINS.ORG\ninstagram\n• instagram.com/lcatompkins
URL:https://www.downtownithaca.com/event/4th-annual-heritage-fiesta/
LOCATION:Press Bay Alley & Court\, 110-118 W. Green St.\, Ithaca\, NY\, 14850\, United States
CATEGORIES:Featured
ATTACH;FMTTYPE=image/jpeg:https://www.downtownithaca.com/wp-content/uploads/Oct-5th.jpg
ORGANIZER;CN="Latino Civic Assocation of Tompkins County":MAILTO:OSPINAYEN@GMAIL.COM
END:VEVENT
BEGIN:VEVENT
DTSTART;TZID=America/New_York:20250618T190000
DTEND;TZID=America/New_York:20250618T210000
DTSTAMP:20260424T073211
CREATED:20250612T170021Z
LAST-MODIFIED:20250612T170021Z
UID:10004811-1750273200-1750280400@www.downtownithaca.com
SUMMARY:Laugh Loud\, Laugh Proud Pride Comedy Night
DESCRIPTION:Join us for Laugh Loud\, Laugh\, Proud Comedy Night at Poured Candle Bar!  \nThis LGBTQ+ comedy show will take place on Wednesday\, June 18th from 7 to 9 PM. Featuring the hilarious Cindy Arena\, Caleb\, Goldberg\, and Katarina Scarlet Valentine!\n*10% of the ticket proceeds are donated to the Ithaca Pride Alliance organization.\n*Doors open at 6:30 PM. Cash wine bar WITH N/A options and food available!\n(Cards exclusively accepted)\n112 W Green Street #6\nIthaca\, NY 14850
URL:https://www.downtownithaca.com/event/laugh-loud-laugh-proud-pride-comedy-night/
LOCATION:Press Bay Alley & Court\, 110-118 W. Green St.\, Ithaca\, NY\, 14850\, United States
CATEGORIES:Featured
ATTACH;FMTTYPE=image/jpeg:https://www.downtownithaca.com/wp-content/uploads/IMG_0425.jpeg
END:VEVENT
BEGIN:VEVENT
DTSTART;TZID=America/New_York:20230317T120000
DTEND;TZID=America/New_York:20230317T170000
DTSTAMP:20260424T073211
CREATED:20230302T150023Z
LAST-MODIFIED:20230306T184926Z
UID:10000067-1679054400-1679072400@www.downtownithaca.com
SUMMARY:YEStival
DESCRIPTION:Join us for the Ithaca YEStival\, the ultimate community gathering for teens! On March 17th\, we’re transforming Press Bay Alley & Court into a teen-friendly oasis with teen-centered activities\, music\, community building and discounts for teens from a variety of local businesses.\nWe’re also bringing the YEStival across the street to the Teen Center at Tompkins County Public Library for crafts\, board games\, movies and a Smash Bros. tournament. \nWhether you’re into music\, art\, sports\, or technology\, there’s something for everyone at YEStival. So\, come on down and have a blast with other like-minded teens and create memories that will last a lifetime. \nThis event is a creation of the Youth Council Ambassadors\, a group of local teens with a mission to listen and speak for youth of Tompkins County.
URL:https://www.downtownithaca.com/event/yestival/
LOCATION:Press Bay Alley & Court\, 110-118 W. Green St.\, Ithaca\, NY\, 14850\, United States
ATTACH;FMTTYPE=image/png:https://www.downtownithaca.com/wp-content/uploads/YEStival-Design.png
ORGANIZER;CN="Youth Council Ambassadors":MAILTO:@yca_ithaca
END:VEVENT
END:VCALENDAR