BEGIN:VCALENDAR
VERSION:2.0
PRODID:-//Downtown Ithaca - ECPv6.15.20//NONSGML v1.0//EN
CALSCALE:GREGORIAN
METHOD:PUBLISH
X-WR-CALNAME:Downtown Ithaca
X-ORIGINAL-URL:https://www.downtownithaca.com
X-WR-CALDESC:Events for Downtown Ithaca
REFRESH-INTERVAL;VALUE=DURATION:PT1H
X-Robots-Tag:noindex
X-PUBLISHED-TTL:PT1H
BEGIN:VTIMEZONE
TZID:America/New_York
BEGIN:DAYLIGHT
TZOFFSETFROM:-0500
TZOFFSETTO:-0400
TZNAME:EDT
DTSTART:20240310T070000
END:DAYLIGHT
BEGIN:STANDARD
TZOFFSETFROM:-0400
TZOFFSETTO:-0500
TZNAME:EST
DTSTART:20241103T060000
END:STANDARD
BEGIN:DAYLIGHT
TZOFFSETFROM:-0500
TZOFFSETTO:-0400
TZNAME:EDT
DTSTART:20250309T070000
END:DAYLIGHT
BEGIN:STANDARD
TZOFFSETFROM:-0400
TZOFFSETTO:-0500
TZNAME:EST
DTSTART:20251102T060000
END:STANDARD
BEGIN:DAYLIGHT
TZOFFSETFROM:-0500
TZOFFSETTO:-0400
TZNAME:EDT
DTSTART:20260308T070000
END:DAYLIGHT
BEGIN:STANDARD
TZOFFSETFROM:-0400
TZOFFSETTO:-0500
TZNAME:EST
DTSTART:20261101T060000
END:STANDARD
BEGIN:DAYLIGHT
TZOFFSETFROM:-0500
TZOFFSETTO:-0400
TZNAME:EDT
DTSTART:20270314T070000
END:DAYLIGHT
BEGIN:STANDARD
TZOFFSETFROM:-0400
TZOFFSETTO:-0500
TZNAME:EST
DTSTART:20271107T060000
END:STANDARD
END:VTIMEZONE
BEGIN:VEVENT
DTSTART;TZID=America/New_York:20260415T170000
DTEND;TZID=America/New_York:20260415T210000
DTSTAMP:20260424T082528
CREATED:20251208T172404Z
LAST-MODIFIED:20251208T172404Z
UID:10006519-1776272400-1776286800@www.downtownithaca.com
SUMMARY:Rolling With Pride: LGBTQ game night at Riverwood Gifts
DESCRIPTION:join us at Riverwood gifts for a night of fun and board games! Celebrating our LGBTQ community Riverwood is a safe and inclusive place to come hang out and play! Pizza provided by SAL’s pizzeria
URL:https://www.downtownithaca.com/event/rolling-with-pride-lgbtq-game-night-at-riverwood-gifts-2/2026-04-15/
LOCATION:Riverwood\, 116 E State St\, ITHACA\, N\, 14850\, United States
CATEGORIES:Featured
ATTACH;FMTTYPE=image/jpeg:https://www.downtownithaca.com/wp-content/uploads/Rolling-with-Pride-final.jpeg
ORGANIZER;CN="Riverwood":MAILTO:marking@theriverwoodotter.com
END:VEVENT
BEGIN:VEVENT
DTSTART;TZID=America/New_York:20251217T163000
DTEND;TZID=America/New_York:20251217T203000
DTSTAMP:20260424T082528
CREATED:20251216T044359Z
LAST-MODIFIED:20251216T044359Z
UID:10006648-1765989000-1766003400@www.downtownithaca.com
SUMMARY:Teach and Play at Riverwood
DESCRIPTION:Enjoy your evening learning how to play fun and challenging board games at Riverwood. this week is Finspan and Wyrmspan!
URL:https://www.downtownithaca.com/event/teach-and-play-at-riverwood/
LOCATION:Riverwood\, 116 E State St\, ITHACA\, N\, 14850\, United States
CATEGORIES:Featured
ATTACH;FMTTYPE=image/png:https://www.downtownithaca.com/wp-content/uploads/Teach-and-play-2.png
ORGANIZER;CN="Riverwood":MAILTO:marking@theriverwoodotter.com
END:VEVENT
BEGIN:VEVENT
DTSTART;TZID=America/New_York:20251214T150000
DTEND;TZID=America/New_York:20251214T183000
DTSTAMP:20260424T082528
CREATED:20251208T172615Z
LAST-MODIFIED:20251208T172615Z
UID:10006641-1765724400-1765737000@www.downtownithaca.com
SUMMARY:"His Majesty the Worm" TTRPG Session
DESCRIPTION:Play in a classic dungeon crawler experience using the “His Majesty the Worm” system run by GM Korrie!\nFood provided by Sushi Osaka!
URL:https://www.downtownithaca.com/event/his-majesty-the-worm-ttrpg-session/
LOCATION:Riverwood\, 116 E State St\, ITHACA\, N\, 14850\, United States
CATEGORIES:Featured
ATTACH;FMTTYPE=image/png:https://www.downtownithaca.com/wp-content/uploads/Untitled-5.png
ORGANIZER;CN="Riverwood":MAILTO:marking@theriverwoodotter.com
END:VEVENT
BEGIN:VEVENT
DTSTART;TZID=America/New_York:20251207T150000
DTEND;TZID=America/New_York:20251207T183000
DTSTAMP:20260424T082528
CREATED:20251204T155006Z
LAST-MODIFIED:20251204T155006Z
UID:10006508-1765119600-1765132200@www.downtownithaca.com
SUMMARY:"Eat the Reich" TTRPG session at Riverwood
DESCRIPTION:come join a scary fun TTRPG session of “eat the Reich” at Riverwood gifts! eat the reich\, Haunt the reich and Drink all of Hitlers blood!
URL:https://www.downtownithaca.com/event/eat-the-reich-ttrpg-session-at-riverwood/
LOCATION:Riverwood\, 116 E State St\, ITHACA\, N\, 14850\, United States
CATEGORIES:Featured
ATTACH;FMTTYPE=image/jpeg:https://www.downtownithaca.com/wp-content/uploads/eat-the-reich.jpg
ORGANIZER;CN="Riverwood":MAILTO:marking@theriverwoodotter.com
END:VEVENT
BEGIN:VEVENT
DTSTART;TZID=America/New_York:20251207T100000
DTEND;TZID=America/New_York:20251207T123000
DTSTAMP:20260424T082528
CREATED:20251124T171534Z
LAST-MODIFIED:20251124T171643Z
UID:10006494-1765101600-1765110600@www.downtownithaca.com
SUMMARY:QUASAR gifts and toy swap
DESCRIPTION:QUASAR (Queers United and Strengthening all Resources) is hosting a No-buy toy and game swap for this holiday season\, on December 7th at 10 am- 12pm at Riverwood Gifts (116 E state street). Lets Celebrate the holiday season sustainably and with the Spirit of mutual aid!
URL:https://www.downtownithaca.com/event/quasar-gifts-and-toy-swap/
LOCATION:Riverwood\, 116 E State St\, ITHACA\, N\, 14850\, United States
CATEGORIES:Featured
ORGANIZER;CN="Riverwood":MAILTO:marking@theriverwoodotter.com
END:VEVENT
BEGIN:VEVENT
DTSTART;TZID=America/New_York:20251126T170000
DTEND;TZID=America/New_York:20251126T210000
DTSTAMP:20260424T082528
CREATED:20251114T164208Z
LAST-MODIFIED:20251114T164208Z
UID:10005313-1764176400-1764190800@www.downtownithaca.com
SUMMARY:Rolling With Pride: LGBTQ game night at Riverwood Gifts
DESCRIPTION:Riverwood on the commons offers a safe and inclusive place to let your gamer flag fly! Join us for board games\, puzzles\, and snacks!
URL:https://www.downtownithaca.com/event/rolling-with-pride-lgbtq-game-night-at-riverwood-gifts/
LOCATION:Riverwood\, 116 E State St\, ITHACA\, N\, 14850\, United States
ATTACH;FMTTYPE=image/jpeg:https://www.downtownithaca.com/wp-content/uploads/Untitled.jpeg
ORGANIZER;CN="Riverwood":MAILTO:marking@theriverwoodotter.com
END:VEVENT
BEGIN:VEVENT
DTSTART;TZID=America/New_York:20250728T160000
DTEND;TZID=America/New_York:20250728T180000
DTSTAMP:20260424T082528
CREATED:20250612T182238Z
LAST-MODIFIED:20250612T182238Z
UID:10004825-1753718400-1753725600@www.downtownithaca.com
SUMMARY:Riverwood Art Club
DESCRIPTION:Bring a project with you or start one new with our supplies! Show off your most recent creations and make friends. All ages welcome. We will have various art supplies for all types of creatives. Bring your tablet\, yarn\, collage materials\, clay\, paints\, or anything else. We’ll have some art supplies so no need to bring anything if you don’t have an ongoing project.
URL:https://www.downtownithaca.com/event/riverwood-art-club/2025-07-28/
LOCATION:Riverwood\, 116 E State St\, ITHACA\, N\, 14850\, United States
CATEGORIES:Featured
ATTACH;FMTTYPE=image/png:https://www.downtownithaca.com/wp-content/uploads/event-posts-4-1-1.png
ORGANIZER;CN="Riverwood":MAILTO:marking@theriverwoodotter.com
END:VEVENT
BEGIN:VEVENT
DTSTART;TZID=America/New_York:20250524T170000
DTEND;TZID=America/New_York:20250524T170000
DTSTAMP:20260424T082528
CREATED:20250417T212947Z
LAST-MODIFIED:20250417T212947Z
UID:10004608-1748106000-1748106000@www.downtownithaca.com
SUMMARY:Adults Game Night!
DESCRIPTION:Choose something from our library or bring your own! Riverwood has a game space that you can take over for the night and play some awesome games! We don’t have it in stock? Ask us to custom order the game.
URL:https://www.downtownithaca.com/event/adults-game-night/2025-05-24/
LOCATION:Riverwood\, 116 E State St\, ITHACA\, N\, 14850\, United States
CATEGORIES:Featured
ATTACH;FMTTYPE=image/png:https://www.downtownithaca.com/wp-content/uploads/event-posts-3.png
ORGANIZER;CN="Riverwood":MAILTO:marking@theriverwoodotter.com
END:VEVENT
BEGIN:VEVENT
DTSTART;TZID=America/New_York:20250523T163000
DTEND;TZID=America/New_York:20250523T180000
DTSTAMP:20260424T082528
CREATED:20250417T212918Z
LAST-MODIFIED:20250417T212918Z
UID:10004607-1748017800-1748023200@www.downtownithaca.com
SUMMARY:After School Board Games & Chess
DESCRIPTION:Play board games and chess in our Game Room after school right on the Commons! All age groups welcome.
URL:https://www.downtownithaca.com/event/after-school-board-games-chess/2025-05-23/
LOCATION:Riverwood\, 116 E State St\, ITHACA\, N\, 14850\, United States
CATEGORIES:Featured
ATTACH;FMTTYPE=image/jpeg:https://www.downtownithaca.com/wp-content/uploads/IMG_5401-scaled.jpeg
ORGANIZER;CN="Riverwood":MAILTO:marking@theriverwoodotter.com
END:VEVENT
BEGIN:VEVENT
DTSTART;TZID=America/New_York:20250427T140000
DTEND;TZID=America/New_York:20250427T173000
DTSTAMP:20260424T082528
CREATED:20250417T133224Z
LAST-MODIFIED:20250417T133224Z
UID:10004595-1745762400-1745775000@www.downtownithaca.com
SUMMARY:Dungeons & Dragons 101 (One-Shot Adventure)
DESCRIPTION:A one-off adventure for those who are still getting their footing in the world of Dungeons and Dragons! Limited spots\, so grab yours today!
URL:https://www.downtownithaca.com/event/dungeons-dragons-101-one-shot-adventure/
LOCATION:Riverwood\, 116 E State St\, ITHACA\, N\, 14850\, United States
CATEGORIES:Featured
ATTACH;FMTTYPE=image/png:https://www.downtownithaca.com/wp-content/uploads/event-posts-5.png
ORGANIZER;CN="Riverwood":MAILTO:marking@theriverwoodotter.com
END:VEVENT
BEGIN:VEVENT
DTSTART;TZID=America/New_York:20250426T160000
DTEND;TZID=America/New_York:20250426T160000
DTSTAMP:20260424T082528
CREATED:20250417T212558Z
LAST-MODIFIED:20250424T141718Z
UID:10004644-1745683200-1745683200@www.downtownithaca.com
SUMMARY:Family Board Game Night
DESCRIPTION:Come play our board games or bring your own to have a night of family fun!
URL:https://www.downtownithaca.com/event/family-board-game-night/2025-04-26/
LOCATION:Riverwood\, 116 E State St\, ITHACA\, N\, 14850\, United States
CATEGORIES:Featured
ATTACH;FMTTYPE=image/png:https://www.downtownithaca.com/wp-content/uploads/event-posts-8.png
ORGANIZER;CN="Riverwood":MAILTO:marking@theriverwoodotter.com
END:VEVENT
BEGIN:VEVENT
DTSTART;TZID=America/New_York:20250419T170000
DTEND;TZID=America/New_York:20250419T190000
DTSTAMP:20260424T082528
CREATED:20250417T135722Z
LAST-MODIFIED:20250417T135722Z
UID:10004596-1745082000-1745089200@www.downtownithaca.com
SUMMARY:Pokémon TCG Trading Night
DESCRIPTION:Come down to Riverwood with your binder and trade with the house and other Pokémon TCG players and collectors at this FREE event!
URL:https://www.downtownithaca.com/event/pokemon-tcg-trading-night/
LOCATION:Riverwood\, 116 E State St\, ITHACA\, N\, 14850\, United States
CATEGORIES:Featured
ATTACH;FMTTYPE=image/png:https://www.downtownithaca.com/wp-content/uploads/event-posts-1.png
ORGANIZER;CN="Riverwood":MAILTO:marking@theriverwoodotter.com
END:VEVENT
BEGIN:VEVENT
DTSTART;TZID=America/New_York:20250413T140000
DTEND;TZID=America/New_York:20250413T170000
DTSTAMP:20260424T082528
CREATED:20250411T182128Z
LAST-MODIFIED:20250411T182128Z
UID:10004588-1744552800-1744563600@www.downtownithaca.com
SUMMARY:Collaborative Worldbuilding Workshop
DESCRIPTION:Create a world collaboratively to be used for TTRPGs\, your next novel\, and more! During this workshop\, we will work together to create a world from the ground up\, and end up with a little universe of our own at the end. Supplies provided\, but feel free to bring whatever creative materials you’d like. \nWe do not want financial barriers to keep folks from our events. Let us know if you want to attend but cannot afford it.
URL:https://www.downtownithaca.com/event/collaborative-worldbuilding-workshop/
LOCATION:Riverwood\, 116 E State St\, ITHACA\, N\, 14850\, United States
CATEGORIES:Featured
ATTACH;FMTTYPE=image/png:https://www.downtownithaca.com/wp-content/uploads/3-3.png
ORGANIZER;CN="Riverwood":MAILTO:marking@theriverwoodotter.com
END:VEVENT
BEGIN:VEVENT
DTSTART;TZID=America/New_York:20250412T170000
DTEND;TZID=America/New_York:20250412T200000
DTSTAMP:20260424T082528
CREATED:20250411T182056Z
LAST-MODIFIED:20250411T182056Z
UID:10004587-1744477200-1744488000@www.downtownithaca.com
SUMMARY:Dungeons & Dragons 101 (Lesson\, Q&A\, and Character Creation)
DESCRIPTION:An awesome FREE opportunity (limited spots) to get into the world of Dungeons and Dragons for folks ages 16+! Have you watched so many live plays but never played yourself? Come on down to Riverwood to learn what the excitement is all about!  \nPlease sign up at the link provided!
URL:https://www.downtownithaca.com/event/dungeons-dragons-101-lesson-qa-and-character-creation/
LOCATION:Riverwood\, 116 E State St\, ITHACA\, N\, 14850\, United States
CATEGORIES:Featured
ATTACH;FMTTYPE=image/png:https://www.downtownithaca.com/wp-content/uploads/3-2.png
ORGANIZER;CN="Riverwood":MAILTO:marking@theriverwoodotter.com
END:VEVENT
BEGIN:VEVENT
DTSTART;TZID=America/New_York:20250223T140000
DTEND;TZID=America/New_York:20250223T170000
DTSTAMP:20260424T082528
CREATED:20250210T182539Z
LAST-MODIFIED:20250210T182551Z
UID:10004436-1740319200-1740330000@www.downtownithaca.com
SUMMARY:D&D 101: Ithaca Loves Teachers (Lesson\, Q&A\, and Play Session)
DESCRIPTION:Calling all teachers and support staff to come join us on an adventure! 📣✨ Riverwood is hosting a lecture and Q&A session on all things Dungeons & Dragons for teachers! This event is free\, but spots are limited. In addition\, you will have the option to play a quick “one-shot” session of Dungeons & Dragons (Only 5 player slots)! Sign up for one or the other or both!\nThis awesome event will take place at Riverwood (116 E State St in the Ithaca Commons\, right across from Autumn Leaves).
URL:https://www.downtownithaca.com/event/dd-101-ithaca-loves-teachers-lesson-qa-and-play-session/
LOCATION:Riverwood\, 116 E State St\, ITHACA\, N\, 14850\, United States
CATEGORIES:Featured
ATTACH;FMTTYPE=image/jpeg:https://www.downtownithaca.com/wp-content/uploads/ithaca-loves-teachers-event-11-x-17-in-1920-x-1080-px.jpg
ORGANIZER;CN="Riverwoood":MAILTO:marking@theriverwoodotter.com
END:VEVENT
END:VCALENDAR