BEGIN:VCALENDAR
VERSION:2.0
PRODID:-//Downtown Ithaca - ECPv6.15.20//NONSGML v1.0//EN
CALSCALE:GREGORIAN
METHOD:PUBLISH
X-WR-CALNAME:Downtown Ithaca
X-ORIGINAL-URL:https://www.downtownithaca.com
X-WR-CALDESC:Events for Downtown Ithaca
REFRESH-INTERVAL;VALUE=DURATION:PT1H
X-Robots-Tag:noindex
X-PUBLISHED-TTL:PT1H
BEGIN:VTIMEZONE
TZID:America/New_York
BEGIN:DAYLIGHT
TZOFFSETFROM:-0500
TZOFFSETTO:-0400
TZNAME:EDT
DTSTART:20230312T070000
END:DAYLIGHT
BEGIN:STANDARD
TZOFFSETFROM:-0400
TZOFFSETTO:-0500
TZNAME:EST
DTSTART:20231105T060000
END:STANDARD
BEGIN:DAYLIGHT
TZOFFSETFROM:-0500
TZOFFSETTO:-0400
TZNAME:EDT
DTSTART:20240310T070000
END:DAYLIGHT
BEGIN:STANDARD
TZOFFSETFROM:-0400
TZOFFSETTO:-0500
TZNAME:EST
DTSTART:20241103T060000
END:STANDARD
BEGIN:DAYLIGHT
TZOFFSETFROM:-0500
TZOFFSETTO:-0400
TZNAME:EDT
DTSTART:20250309T070000
END:DAYLIGHT
BEGIN:STANDARD
TZOFFSETFROM:-0400
TZOFFSETTO:-0500
TZNAME:EST
DTSTART:20251102T060000
END:STANDARD
END:VTIMEZONE
BEGIN:VEVENT
DTSTART;TZID=America/New_York:20240428T160000
DTEND;TZID=America/New_York:20240428T170000
DTSTAMP:20260421T155142
CREATED:20240227T141918Z
LAST-MODIFIED:20240227T141918Z
UID:10003667-1714320000-1714323600@www.downtownithaca.com
SUMMARY:Cayuga Vocal Ensemble presents: "Pax Mundi”\, a concert for peace
DESCRIPTION:Experience the harmony of humanity with Cayuga Vocal Ensemble’s concert\, ‘Pax Mundi.’ Join us for an evening of choral works by Arvo Pärt\, Alvin Singleton\, Amy Beach\, Sarah Quartel\, and others celebrating peace and unity. \nDonations welcome at the door. \nMade possible in part with funds from the NYS Council on the Arts\, through the Community Arts Partnership.
URL:https://www.downtownithaca.com/event/cayuga-vocal-ensemble-presents-pax-mundi-a-concert-for-peace/
LOCATION:St. Catherine of Siena Church\, 309 Siena Drive\, Ithaca\, 14850
CATEGORIES:Featured
ATTACH;FMTTYPE=image/jpeg:https://www.downtownithaca.com/wp-content/uploads/PeaceCandle-1.jpg
ORGANIZER;CN="Cayuga Vocal Ensemble":MAILTO:webmaster@cayuga-vocal.org
END:VEVENT
END:VCALENDAR