BEGIN:VCALENDAR
VERSION:2.0
PRODID:-//Downtown Ithaca - ECPv6.15.20//NONSGML v1.0//EN
CALSCALE:GREGORIAN
METHOD:PUBLISH
X-WR-CALNAME:Downtown Ithaca
X-ORIGINAL-URL:https://www.downtownithaca.com
X-WR-CALDESC:Events for Downtown Ithaca
REFRESH-INTERVAL;VALUE=DURATION:PT1H
X-Robots-Tag:noindex
X-PUBLISHED-TTL:PT1H
BEGIN:VTIMEZONE
TZID:America/New_York
BEGIN:DAYLIGHT
TZOFFSETFROM:-0500
TZOFFSETTO:-0400
TZNAME:EDT
DTSTART:20220313T070000
END:DAYLIGHT
BEGIN:STANDARD
TZOFFSETFROM:-0400
TZOFFSETTO:-0500
TZNAME:EST
DTSTART:20221106T060000
END:STANDARD
BEGIN:DAYLIGHT
TZOFFSETFROM:-0500
TZOFFSETTO:-0400
TZNAME:EDT
DTSTART:20230312T070000
END:DAYLIGHT
BEGIN:STANDARD
TZOFFSETFROM:-0400
TZOFFSETTO:-0500
TZNAME:EST
DTSTART:20231105T060000
END:STANDARD
BEGIN:DAYLIGHT
TZOFFSETFROM:-0500
TZOFFSETTO:-0400
TZNAME:EDT
DTSTART:20240310T070000
END:DAYLIGHT
BEGIN:STANDARD
TZOFFSETFROM:-0400
TZOFFSETTO:-0500
TZNAME:EST
DTSTART:20241103T060000
END:STANDARD
BEGIN:DAYLIGHT
TZOFFSETFROM:-0500
TZOFFSETTO:-0400
TZNAME:EDT
DTSTART:20250309T070000
END:DAYLIGHT
BEGIN:STANDARD
TZOFFSETFROM:-0400
TZOFFSETTO:-0500
TZNAME:EST
DTSTART:20251102T060000
END:STANDARD
BEGIN:DAYLIGHT
TZOFFSETFROM:-0500
TZOFFSETTO:-0400
TZNAME:EDT
DTSTART:20260308T070000
END:DAYLIGHT
BEGIN:STANDARD
TZOFFSETFROM:-0400
TZOFFSETTO:-0500
TZNAME:EST
DTSTART:20261101T060000
END:STANDARD
END:VTIMEZONE
BEGIN:VEVENT
DTSTART;TZID=America/New_York:20250206T120000
DTEND;TZID=America/New_York:20250302T170000
DTSTAMP:20260422T025808
CREATED:20250115T185712Z
LAST-MODIFIED:20250115T185712Z
UID:10004396-1738843200-1740934800@www.downtownithaca.com
SUMMARY:State of the Art Gallery Members Show "THREADS"
DESCRIPTION:The State of the Art Gallery presents THREADS\, February 6-March 2\, 2025. Twelve  artist members thread their diverse images together to reflect the colors of the new year. Works will include sculpture\,  photography\, painting\, digital art and mixed media by Christine Chin\, Jane Dennis\, Frances Fawcett\, Annemiek Haralson\, Daniel McPheeters\, Keith Millman\, Catharine O’Neill\, Diana Ozolins\, Nancy Ridenour\, Carol Spence\, David Watkins\, and Hsiao-Pei Yang. \nThe show will run from February 6th through March 2nd\, 2025. Opening reception Friday\, February 7th\, 5–8pm.  \nRegular hours Thursday-Sunday 12-5 pm. 120 W State St. Curbside parking and ADA accessibility. 607-277-1626. Made possible in part with funds from the NYS Council on the Arts\, administered by the Community Arts Partnership.
URL:https://www.downtownithaca.com/event/state-of-the-art-gallery-members-show-threads/
LOCATION:State of the Art Gallery\, 120 W State St #2\, Ithaca\, 14850\, United Kingdom
CATEGORIES:Featured
ATTACH;FMTTYPE=image/jpeg:https://www.downtownithaca.com/wp-content/uploads/Publicity-Feb-2025_1.jpg
ORGANIZER;CN="State of the Art Gallery":MAILTO:gallery@soag.org
END:VEVENT
BEGIN:VEVENT
DTSTART;TZID=America/New_York:20250202T120000
DTEND;TZID=America/New_York:20250305T170000
DTSTAMP:20260422T025808
CREATED:20241216T144321Z
LAST-MODIFIED:20241216T144321Z
UID:10004357-1738497600-1741194000@www.downtownithaca.com
SUMMARY:Tapestry
DESCRIPTION:A tapestry is defined as a heavy cloth or canvas with designs or pictures woven into it. The January exhibit will weave together images from thirteen of our artist members. The result promises to be a colorful and diverse sampling of paintings\, photos\, sculpture\, and fiber arts. \nThe show will run from January 2nd through February 2nd\, 2025. Opening reception Friday\, January 3rd\, 5–8pm. \nRegular hours Thursday-Sunday 12-5 pm. 120 W State St. Curbside parking and ADA accessibility. 607-277-1626. Made possible in part with funds from the NYS Council on the Arts\, administered by the Community Arts Partnership. \nImages: \nEd Brothers\, Hagwilget Peak\, Oil pastel\, 16”x13” framed\nKatrina Morse\, “Waiting”\, Acrylic on canvas\, 36” x 24”
URL:https://www.downtownithaca.com/event/tapestry/2025-02-02/
LOCATION:State of the Art Gallery\, 120 W State St #2\, Ithaca\, 14850\, United Kingdom
CATEGORIES:Featured
ATTACH;FMTTYPE=image/jpeg:https://www.downtownithaca.com/wp-content/uploads/2025-01-Brothers-ED-Hagwilget-Peak.jpeg
ORGANIZER;CN="State of the Art Gallery":MAILTO:gallery@soag.org
END:VEVENT
BEGIN:VEVENT
DTSTART;TZID=America/New_York:20241228T120000
DTEND;TZID=America/New_York:20241228T170000
DTSTAMP:20260422T025808
CREATED:20241118T040526Z
LAST-MODIFIED:20241122T173728Z
UID:10004264-1735387200-1735405200@www.downtownithaca.com
SUMMARY:2024 Annual December Juried Show
DESCRIPTION:The State of the Art Gallery is excited to announce the 2024 Annual December Juried Show\, presenting sixty-eight 2-D and 3-D artworks in a wide variety of genres and media. This year 108 artists submitted over 300 pieces\, from which the jury members made their choices. \n$1000 in prizes will be awarded by prize judge Dara Engler\, Associate Professor and Associate Chair\, Art\, Art History\, and Architecture at Ithaca College. Prizes will be announced on Friday December 6. \nThe show will run from December 5th through December 28th\, 2024. There will be an opening reception Friday\, December 6\, 5–8pm. \nRegular hours Thursday-Sunday 12-5 pm. 120 W State St. Curbside parking and ADA accessibility. 607-277-1626. Made possible in part with funds from the NYS Council on the Arts\, administered by the Community Arts Partnership. \nImages: \nArthur Bucknor\nBrick House
URL:https://www.downtownithaca.com/event/2024-annual-december-juried-show/2024-12-28/
LOCATION:State of the Art Gallery\, 120 W State St #2\, Ithaca\, 14850\, United Kingdom
CATEGORIES:Featured
ATTACH;FMTTYPE=image/jpeg:https://www.downtownithaca.com/wp-content/uploads/Brick-House-Arthur-Bucknor.jpg
ORGANIZER;CN="State of the Art Gallery":MAILTO:gallery@soag.org
END:VEVENT
BEGIN:VEVENT
DTSTART;TZID=America/New_York:20241027T120000
DTEND;TZID=America/New_York:20241027T170000
DTSTAMP:20260422T025808
CREATED:20240913T192040Z
LAST-MODIFIED:20240913T192203Z
UID:10004141-1730030400-1730048400@www.downtownithaca.com
SUMMARY:Harry Littell and Jane Dennis
DESCRIPTION:SOAG’s October exhibit features photographs by Harry Littell and mixed media work by Jane Dennis. Littell’s series\, “Parts and Service\,” depicts the stillness and mystery of urban landscapes at twilight\, including scenes in Ithaca\, Cortland\, and Binghamton. Dennis’s sculpture and paintings explore “A Cold War Childhood.” Space race\, rockets\, and duck and cover drills; what effect did it have on us? \nOctober 3-27. Opening reception Friday\, October 4\, 5-8 pm. \nRegular hours Thursday-Sunday 12-5 pm. 120 W State St. Curbside parking and ADA accessibility. 607-277-1626. Made possible in part with funds from the NYS Council on the Arts\, administered by the Community Arts Partnership. \nImage: \nLift Off by Jane Dennis
URL:https://www.downtownithaca.com/event/harry-littell-and-jane-dennis/2024-10-27/
LOCATION:State of the Art Gallery\, 120 W State St #2\, Ithaca\, 14850\, United Kingdom
CATEGORIES:Featured
ATTACH;FMTTYPE=image/jpeg:https://www.downtownithaca.com/wp-content/uploads/Lift-Off-by-Jane-Dennis.jpg
ORGANIZER;CN="State of the Art Gallery":MAILTO:gallery@soag.org
END:VEVENT
BEGIN:VEVENT
DTSTART;TZID=America/New_York:20240928T120000
DTEND;TZID=America/New_York:20240928T170000
DTSTAMP:20260422T025808
CREATED:20240812T141420Z
LAST-MODIFIED:20240812T142149Z
UID:10004095-1727524800-1727542800@www.downtownithaca.com
SUMMARY:Variations
DESCRIPTION:In Variations\, artists Patricia Brown and Patricia Hunsinger celebrate subtle and broad differences in light\, color and texture in painting and printmaking. \nSeptember 5-29. Opening reception Friday\, September 6\, 5-8 pm. \nRegular hours Thursday-Sunday 12-5 pm. 120 W State St. Curbside parking and ADA accessibility. 607-277-1626. Made possible in part with funds from the NYS Council on the Arts\, administered by the Community Arts Partnership. \nImage: \nPatricia Brown\nUntitled\, 24_04_17\nAcrylic on Wood panel\n18” x 18”
URL:https://www.downtownithaca.com/event/variations/2024-09-28/
LOCATION:State of the Art Gallery\, 120 W State St #2\, Ithaca\, 14850\, United Kingdom
CATEGORIES:Featured
ATTACH;FMTTYPE=image/jpeg:https://www.downtownithaca.com/wp-content/uploads/2024-09-Brown-Patricia-Variations-26A-24_04_17.jpg
ORGANIZER;CN="State of the Art Gallery":MAILTO:gallery@soag.org
END:VEVENT
BEGIN:VEVENT
DTSTART;TZID=America/New_York:20240901T120000
DTEND;TZID=America/New_York:20240901T170000
DTSTAMP:20260422T025808
CREATED:20240722T031056Z
LAST-MODIFIED:20240722T031056Z
UID:10004064-1725192000-1725210000@www.downtownithaca.com
SUMMARY:Seeing Ithaca Through the Eyes of Artists
DESCRIPTION:This year State of the Art Gallery will again be sponsoring Seeing Ithaca Through the Eyes of Artists. It will take place during the month of August 2024\, with gallery members and invited guests exhibiting work on the theme “Seeing Ithaca”.\nIn addition\, exhibits will be hosted at various galleries and other venues that show art around town. All exhibits will celebrate Gallery Night on August 2\, 5–8. PLUS at least 25 artists will have their studios open on August 10 from 12–5. Check out https://seeingithaca.org/ for more information.\nAugust 1 – September 1\, 2024. Opening reception Friday\, August 2\, 5-8 pm.. \nRegular hours Thursday-Sunday 12-5 pm. 120 W State St. Curbside parking and ADA accessibility. 607-277-1626. Made possible in part with funds from the NYS Council on the Arts\, administered by the Community Arts Partnership. \nImages: \nBarbara Behrmann\nIn Our Backyard\nAcrylic on Wood Panel\n15” x 30″
URL:https://www.downtownithaca.com/event/seeing-ithaca-through-the-eyes-of-artists-2/2024-09-01/
LOCATION:State of the Art Gallery\, 120 W State St #2\, Ithaca\, 14850\, United Kingdom
CATEGORIES:Featured
ATTACH;FMTTYPE=image/jpeg:https://www.downtownithaca.com/wp-content/uploads/2024-08-Behrmann-BARBARA-In-Our-Backyard.jpg
ORGANIZER;CN="State of the Art Gallery":MAILTO:gallery@soag.org
END:VEVENT
BEGIN:VEVENT
DTSTART;VALUE=DATE:20240801
DTEND;VALUE=DATE:20240901
DTSTAMP:20260422T025808
CREATED:20240521T144700Z
LAST-MODIFIED:20240528T044849Z
UID:10003940-1722470400-1725148799@www.downtownithaca.com
SUMMARY:Seeing Ithaca:  through the eyes of artists
DESCRIPTION:This year State of the Art Gallery Ithaca will again be sponsoring Seeing Ithaca Through the Eyes of Artists. It will take place during the month of August 2024. \nLast year’s event included nine galleries\, each gallery exhibiting art on the broad theme “Seeing Ithaca”. This year we are expanding the scope to include galleries\, artists with studios\, and businesses and other venues that show art. For an updated list of venues\, Click here to head to our website \nArtists will have their studios open August 10\, 12–5. Galleries and other venues will celebrate Gallery Night on August 2\, 5–8.
URL:https://www.downtownithaca.com/event/seeing-ithaca-through-the-eyes-of-artists/
LOCATION:State of the Art Gallery\, 120 W State St #2\, Ithaca\, 14850\, United Kingdom
CATEGORIES:Featured
ATTACH;FMTTYPE=image/png:https://www.downtownithaca.com/wp-content/uploads/Screen-Shot-2024-05-21-at-10.14.53-AM.png
ORGANIZER;CN="State of the Art Gallery":MAILTO:gallery@soag.org
END:VEVENT
BEGIN:VEVENT
DTSTART;TZID=America/New_York:20240728T120000
DTEND;TZID=America/New_York:20240728T170000
DTSTAMP:20260422T025808
CREATED:20240617T180345Z
LAST-MODIFIED:20240617T180345Z
UID:10003993-1722168000-1722186000@www.downtownithaca.com
SUMMARY:Looking Forward\, Looking Back
DESCRIPTION:In July\, three artists are featured at the State of the Art Gallery. New member Catharine O’Neill is showing paintings in the Salon. The main gallery celebrates the works and lives of two long time\, former members: Stan Bowman and Janet Byer Sherman.\nIn summer\, O’Neill paints green things by the water. In winter\, she paints whatever has found its way to the dining table. Bowman worked in photography and many other media\, constantly experimenting and pushing boundaries. Byer-Sherman painted in oils on canvas\, and made multimedia works on paper\, responding spontaneously to music and her surroundings.\nJuly 5-28. Opening reception Friday\, July 5\, 5-8 pm. \nRegular hours Thursday-Sunday 12-5 pm. 120 W State St. Curbside parking and ADA accessibility. 607-277-1626. Made possible in part with funds from the NYS Council on the Arts\, administered by the Community Arts Partnership.
URL:https://www.downtownithaca.com/event/looking-forward-looking-back/2024-07-28/
LOCATION:State of the Art Gallery\, 120 W State St #2\, Ithaca\, 14850\, United Kingdom
CATEGORIES:Featured
ATTACH;FMTTYPE=image/jpeg:https://www.downtownithaca.com/wp-content/uploads/2024-07-Bowman-STAN-Triptych.jpg
ORGANIZER;CN="State of the Art Gallery":MAILTO:gallery@soag.org
END:VEVENT
BEGIN:VEVENT
DTSTART;TZID=America/New_York:20240629T120000
DTEND;TZID=America/New_York:20240629T170000
DTSTAMP:20260422T025808
CREATED:20240513T043214Z
LAST-MODIFIED:20260414T042652Z
UID:10003873-1719662400-1719680400@www.downtownithaca.com
SUMMARY:35th Annual Juried Photography Show
DESCRIPTION:June 6th opens the 35th Annual Juried Photography Show at the State of the Art\nGallery. This year’s show attracted 63 entries from all over New York state.  The jury\nreviewed 210 images and selected 83 for the show. The exhibit includes landscapes\,\nportraits\, abstract and traditional photography. \nJune 6-29\, 2024. Opening reception Friday\, June 7\, 5-8 pm.\nRegular hours Thursday-Sunday 12-5 pm. 120 W State St. Curbside parking and ADA\naccessibility. 607-277-1626. Made possible in part with funds from the NYS Council on\nthe Arts\, administered by the Community Arts Partnership.\nImages:\nGwen Bullock – Varna Fire Company 1\, 10” x 8”\nEarle Gillis – Essentials\, 18” x 12”
URL:https://www.downtownithaca.com/event/35th-annual-juried-photography-show/2024-06-29/
LOCATION:State of the Art Gallery\, 120 W State St #2\, Ithaca\, 14850\, United Kingdom
CATEGORIES:Featured
ATTACH;FMTTYPE=image/jpeg:https://www.downtownithaca.com/wp-content/uploads/Gillis-EARLE-Essentials.jpg
ORGANIZER;CN="State of the Art Gallery":MAILTO:gallery@soag.org
END:VEVENT
BEGIN:VEVENT
DTSTART;TZID=America/New_York:20240602T120000
DTEND;TZID=America/New_York:20240602T170000
DTSTAMP:20260422T025808
CREATED:20240415T034411Z
LAST-MODIFIED:20240415T034411Z
UID:10003821-1717329600-1717347600@www.downtownithaca.com
SUMMARY:Interior / Exterior
DESCRIPTION:For its May exhibition\, the State of the Art Gallery presents “Interior / Exterior\,” new\npaintings by Carol Spence and Vincent Joseph. Spence and Joseph explore color\,\nspace\, and textures through the elements of landscape and figure\, both abstract and\nrepresentational. Work can be seen in person and online at soagithaca.org. \nMay 2-June 2. Opening reception Friday\, May 3\, 5-8 pm. \nRegular hours Thursday-Sunday 12-5 pm. 120 W State St. Curbside parking and ADA\naccessibility. 607-277-1626. Made possible in part with funds from the NYS Council on\nthe Arts\, administered by the Community Arts Partnership. \nImages:\nJanuary by Carol Spence\nLori Daydreaming by Vince Joseph
URL:https://www.downtownithaca.com/event/interior-exterior/2024-06-02/
LOCATION:State of the Art Gallery\, 120 W State St #2\, Ithaca\, 14850\, United Kingdom
CATEGORIES:Featured
ATTACH;FMTTYPE=image/jpeg:https://www.downtownithaca.com/wp-content/uploads/Lori-Daydreaming-by-Vince-Joseph.jpg
ORGANIZER;CN="State of the Art Gallery":MAILTO:gallery@soag.org
END:VEVENT
BEGIN:VEVENT
DTSTART;TZID=America/New_York:20240105T170000
DTEND;TZID=America/New_York:20240105T200000
DTSTAMP:20260422T025808
CREATED:20231221T200011Z
LAST-MODIFIED:20231221T200011Z
UID:10003574-1704474000-1704484800@www.downtownithaca.com
SUMMARY:Ithaca Gallery Night First Friday January 5th
DESCRIPTION:First Friday Ithaca Gallery Night on Friday\, January 5th from 5-8pm. Several artists and galleries to visit around the downtown Ithaca area and Commons. Each of the participating galleries and venues feature different art exhibits- for detailed listing please go to at www.Ithacagallerynight.com.
URL:https://www.downtownithaca.com/event/ithaca-gallery-night-first-friday-january-5th/
LOCATION:The Commons\, Ithaca\, NY\, 14850\, United States
ATTACH;FMTTYPE=image/png:https://www.downtownithaca.com/wp-content/uploads/Google-form-GRAPHIC_IthacaGalleryNight-1.png
ORGANIZER;CN="Ithaca Gallery Night":MAILTO:denfieldgallery@gmail.com
END:VEVENT
BEGIN:VEVENT
DTSTART;TZID=America/New_York:20231126T120000
DTEND;TZID=America/New_York:20231126T170000
DTSTAMP:20260422T025808
CREATED:20231016T141651Z
LAST-MODIFIED:20231016T141651Z
UID:10003265-1701000000-1701018000@www.downtownithaca.com
SUMMARY:Divergence- Convergence; Harvest
DESCRIPTION:Ed Brothers\, SOAG’s featured artist for November\, presents “Divergence-Convergence\,” explorations in oil pastel paintings. Ed’s choice of subjects is a constant effort to look both ways; looking for something new and fresh\, but always being drawn to the familiar and rich experiences of the past. Ed’s images range from favorite fly fishing locations to the mouth-watering details of a Greek pizza. \nIn addition\, SOAG members will be showing work in a group exhibit entitled “Harvest.” \nNovember 2-26. Opening reception Friday\, November 3\, 5-8 pm. \nRegular hours Thursday-Sunday 12-5 pm. 120 W State St. Curbside parking and ADA accessibility. 607-277-1626. Made possible in part with funds from the NYS Council on the Arts\, administered by the Community Arts Partnership. \nImages: \nLouie’s Mediterranean by Ed Brothers
URL:https://www.downtownithaca.com/event/divergence-convergence-harvest/2023-11-26/
LOCATION:State of the Art Gallery\, 120 W State St #2\, Ithaca\, 14850\, United Kingdom
ATTACH;FMTTYPE=image/jpeg:https://www.downtownithaca.com/wp-content/uploads/Louies-Mediterranean-by-Ed-Brothers.jpg
ORGANIZER;CN="State of the Art Gallery":MAILTO:gallery@soag.org
END:VEVENT
END:VCALENDAR