BEGIN:VCALENDAR
VERSION:2.0
PRODID:-//Downtown Ithaca - ECPv6.15.20//NONSGML v1.0//EN
CALSCALE:GREGORIAN
METHOD:PUBLISH
X-WR-CALNAME:Downtown Ithaca
X-ORIGINAL-URL:https://www.downtownithaca.com
X-WR-CALDESC:Events for Downtown Ithaca
REFRESH-INTERVAL;VALUE=DURATION:PT1H
X-Robots-Tag:noindex
X-PUBLISHED-TTL:PT1H
BEGIN:VTIMEZONE
TZID:America/New_York
BEGIN:DAYLIGHT
TZOFFSETFROM:-0500
TZOFFSETTO:-0400
TZNAME:EDT
DTSTART:20220313T070000
END:DAYLIGHT
BEGIN:STANDARD
TZOFFSETFROM:-0400
TZOFFSETTO:-0500
TZNAME:EST
DTSTART:20221106T060000
END:STANDARD
BEGIN:DAYLIGHT
TZOFFSETFROM:-0500
TZOFFSETTO:-0400
TZNAME:EDT
DTSTART:20230312T070000
END:DAYLIGHT
BEGIN:STANDARD
TZOFFSETFROM:-0400
TZOFFSETTO:-0500
TZNAME:EST
DTSTART:20231105T060000
END:STANDARD
BEGIN:DAYLIGHT
TZOFFSETFROM:-0500
TZOFFSETTO:-0400
TZNAME:EDT
DTSTART:20240310T070000
END:DAYLIGHT
BEGIN:STANDARD
TZOFFSETFROM:-0400
TZOFFSETTO:-0500
TZNAME:EST
DTSTART:20241103T060000
END:STANDARD
END:VTIMEZONE
BEGIN:VEVENT
DTSTART;TZID=America/New_York:20230712T180000
DTEND;TZID=America/New_York:20230712T200000
DTSTAMP:20260420T181724
CREATED:20230522T133916Z
LAST-MODIFIED:20230522T133916Z
UID:10000495-1689184800-1689192000@www.downtownithaca.com
SUMMARY:Open Mic Night Honoring Queer and BIPOC Suffering
DESCRIPTION:Open mic night honoring queer and BIPOC suffering. Poetry\, spoken word\, and other acoustic performances welcome. Safe space. There will be community counselors available at this event. Open to the public. Sign up at the event. FREE. \nThis open mic event will inspire writers and artists to create and share work which honors queer and BIPOC suffering. It is hosted by The Gallery and current exhibiting artist\, Brooke Lange\, in conjunction with the current exhibition LIFTING BOTANICALS.  \nThis event is part 2 of a 2 part open mic series\, presenting poetry and spoken word about queer and BIPOC experiences at The Gallery. There will be community counselors available at this event.
URL:https://www.downtownithaca.com/event/open-mic-night-honoring-queer-and-bipoc-suffering/
LOCATION:The Gallery\, Press Bay Court\, Press Bay Court 114 W Green Street\, Ithaca\, NY\, 14850\, United States
ATTACH;FMTTYPE=image/jpeg:https://www.downtownithaca.com/wp-content/uploads/Lifting-Botanicals-Brooke-Lange-copy-5-3-scaled.jpg
ORGANIZER;CN="Brooke Lange%2C Artist":MAILTO:brookelangeartist@gmail.com
END:VEVENT
BEGIN:VEVENT
DTSTART;TZID=America/New_York:20230614T180000
DTEND;TZID=America/New_York:20230614T200000
DTSTAMP:20260420T181724
CREATED:20230522T133849Z
LAST-MODIFIED:20230522T133849Z
UID:10000494-1686765600-1686772800@www.downtownithaca.com
SUMMARY:Open Mic Night Celebrating Queer & BIPOC Joy
DESCRIPTION:Poetry\, spoken word\, and other acoustic performances welcome. Open to the public. Sign up at the event. FREE. This open mic event will inspire writers and artists to create and share work which celebrates joy which is underrepresented in prominent art by marginalized groups. It is hosted by The Gallery and current exhibiting artist\, Brooke Lange\, in conjunction with the current exhibition LIFTING BOTANICALS\, which is a celebration of queer joy and honoring what inspires happiness in our lives. This event is part 1 of a 2 part part open mic series\, presenting poetry and spoken word about queer and BIPOC experiences at The Gallery.
URL:https://www.downtownithaca.com/event/open-mic-night-celebrating-queer-bipoc-joy/
LOCATION:The Gallery\, Press Bay Court\, Press Bay Court 114 W Green Street\, Ithaca\, NY\, 14850\, United States
ATTACH;FMTTYPE=image/jpeg:https://www.downtownithaca.com/wp-content/uploads/Lifting-Botanicals-Brooke-Lange-copy-5-1-scaled.jpg
ORGANIZER;CN="Brooke Lange%2C Artist":MAILTO:brookelangeartist@gmail.com
END:VEVENT
END:VCALENDAR