BEGIN:VCALENDAR
VERSION:2.0
PRODID:-//Downtown Ithaca - ECPv6.15.20//NONSGML v1.0//EN
CALSCALE:GREGORIAN
METHOD:PUBLISH
X-ORIGINAL-URL:https://www.downtownithaca.com
X-WR-CALDESC:Events for Downtown Ithaca
REFRESH-INTERVAL;VALUE=DURATION:PT1H
X-Robots-Tag:noindex
X-PUBLISHED-TTL:PT1H
BEGIN:VTIMEZONE
TZID:America/New_York
BEGIN:DAYLIGHT
TZOFFSETFROM:-0500
TZOFFSETTO:-0400
TZNAME:EDT
DTSTART:20220313T070000
END:DAYLIGHT
BEGIN:STANDARD
TZOFFSETFROM:-0400
TZOFFSETTO:-0500
TZNAME:EST
DTSTART:20221106T060000
END:STANDARD
BEGIN:DAYLIGHT
TZOFFSETFROM:-0500
TZOFFSETTO:-0400
TZNAME:EDT
DTSTART:20230312T070000
END:DAYLIGHT
BEGIN:STANDARD
TZOFFSETFROM:-0400
TZOFFSETTO:-0500
TZNAME:EST
DTSTART:20231105T060000
END:STANDARD
BEGIN:DAYLIGHT
TZOFFSETFROM:-0500
TZOFFSETTO:-0400
TZNAME:EDT
DTSTART:20240310T070000
END:DAYLIGHT
BEGIN:STANDARD
TZOFFSETFROM:-0400
TZOFFSETTO:-0500
TZNAME:EST
DTSTART:20241103T060000
END:STANDARD
BEGIN:DAYLIGHT
TZOFFSETFROM:-0500
TZOFFSETTO:-0400
TZNAME:EDT
DTSTART:20250309T070000
END:DAYLIGHT
BEGIN:STANDARD
TZOFFSETFROM:-0400
TZOFFSETTO:-0500
TZNAME:EST
DTSTART:20251102T060000
END:STANDARD
BEGIN:DAYLIGHT
TZOFFSETFROM:-0500
TZOFFSETTO:-0400
TZNAME:EDT
DTSTART:20260308T070000
END:DAYLIGHT
BEGIN:STANDARD
TZOFFSETFROM:-0400
TZOFFSETTO:-0500
TZNAME:EST
DTSTART:20261101T060000
END:STANDARD
END:VTIMEZONE
BEGIN:VEVENT
DTSTART;TZID=America/New_York:20250609T180000
DTEND;TZID=America/New_York:20250609T193000
DTSTAMP:20260421T132045
CREATED:20250602T202003Z
LAST-MODIFIED:20250602T202003Z
UID:10004733-1749492000-1749497400@www.downtownithaca.com
SUMMARY:Supporting Your Siblings with Karina Hagelin: Part of The Gay Agenda at TCPL
DESCRIPTION:In this interactive workshop\, participants will learn about community care to better support their LGBTQQIA+ siblings. You’ll learn about:\n– What community care is\n– Why community care is important\n– What community care looks like in practice\n– Incorporating sustainability into care to avoid burnout + boundary work\n– How to practice several community care skills\, including: community care plans\, support menus\, & check-ins\n– How to ask for care & how to offer care\n– Feelings that might come up throughout this process \nAbout the Presenter\nKarina Hagelin is a disabled nonbinary queer femme artist\, educator\, keynote speaker\, librarian\, & survivor. Their interests include radical vulnerability\, friendship\, gossip as a site of resistance\, disability\, community care\, self-love\, trauma healing + recovery\, zines\, & creativity. \nKarina’s expansive body of work includes making zines about healing\, self + community care\, & disability; a podcast about C-PTSD & trauma recovery; workshops on trauma-informed librarianship\, radical vulnerability\, & community care; the Survivor Affirmation Deck; & a weekly-ish newsletter.
URL:https://www.downtownithaca.com/event/supporting-your-siblings-with-karina-hagelin-part-of-the-gay-agenda-at-tcpl/
LOCATION:Tompkins County Public Library\, 101 E. Green Street\, Ithaca\, NY\, 14850
CATEGORIES:Featured
ATTACH;FMTTYPE=image/jpeg:https://www.downtownithaca.com/wp-content/uploads/Gay-Agenda-Information-Sessions.jpg
ORGANIZER;CN="TCPL":MAILTO:communications@tcpl.org
END:VEVENT
BEGIN:VEVENT
DTSTART;TZID=America/New_York:20250607T123000
DTEND;TZID=America/New_York:20250607T160000
DTSTAMP:20260421T132045
CREATED:20250602T201802Z
LAST-MODIFIED:20250602T201802Z
UID:10004731-1749299400-1749312000@www.downtownithaca.com
SUMMARY:Gender Affirming Closet: The Gay Agenda at TCPL
DESCRIPTION:The Gender Affirming Clothing Closet is a free pop-up event for queer and gender diverse bodies of all ages to empower authentic self expression and exploration. Folx can take as much or as little as they want. \nItems will include (dependent on donations): NEW OR GENTLY USED clothing such as dresses\, pants\, skirts\, blouses\, button-ups\, shorts\, jackets\, shoes\, trans-affirming shape wear\, binders as well as perfume/cologne and hygiene products. \nThe closet honors the importance of all bodies being supported\, celebrated and affirmed while feeling a sense of belonging within the safety of community. \n*This is not a clothing swap\, you are welcome to bring items to donate to our future pop-up events the day of if desired!
URL:https://www.downtownithaca.com/event/gender-affirming-closet-the-gay-agenda-at-tcpl/
LOCATION:Tompkins County Public Library\, 101 E. Green Street\, Ithaca\, NY\, 14850
CATEGORIES:Featured
ATTACH;FMTTYPE=image/jpeg:https://www.downtownithaca.com/wp-content/uploads/gay-agenda-webpage_resource-fair.jpg
ORGANIZER;CN="TCPL":MAILTO:communications@tcpl.org
END:VEVENT
BEGIN:VEVENT
DTSTART;TZID=America/New_York:20250607T120000
DTEND;TZID=America/New_York:20250607T163000
DTSTAMP:20260421T132045
CREATED:20250602T201919Z
LAST-MODIFIED:20250602T201919Z
UID:10004730-1749297600-1749313800@www.downtownithaca.com
SUMMARY:The Gay Agenda at TCPL Resource Fair
DESCRIPTION:Welcome to the first Gay Agenda event! \nJoin us and the following organizations in the Avenue of Friends at the Tompkins County Public Library for resources\, information and opportunities from local queer-friendly businesses! \nOrganizations that will be there are: \nCornell Health \nSouthern Tier AIDS Program \nTCPL LGBTQ+ Youth Group \nHair Color Art \nRainbow Support Alliance \nIthaca Pride Alliance \nPFLAG Ithaca-Cortland \nResources from these organizations will be available: \nVia’s Cookies \nLawNY
URL:https://www.downtownithaca.com/event/the-gay-agenda-at-tcpl-resource-fair/
LOCATION:Tompkins County Public Library\, 101 E. Green Street\, Ithaca\, NY\, 14850
CATEGORIES:Featured
ATTACH;FMTTYPE=image/jpeg:https://www.downtownithaca.com/wp-content/uploads/Gay-Agenda-Saturday-Events.jpg
ORGANIZER;CN="TCPL":MAILTO:communications@tcpl.org
END:VEVENT
BEGIN:VEVENT
DTSTART;TZID=America/New_York:20250607T110000
DTEND;TZID=America/New_York:20250607T113000
DTSTAMP:20260421T132045
CREATED:20250602T201842Z
LAST-MODIFIED:20250602T201842Z
UID:10004729-1749294000-1749295800@www.downtownithaca.com
SUMMARY:Pride! Storytime: Part of the Gay Agenda at TCPL
DESCRIPTION:Children of all ages and their caregivers are invited to celebrate reading and build their early literacy skills at Family Storytime. We meet each Saturday for stories\, songs and hands-on fun. \nFamily Storytime on June 7th will be PRIDE Family Storytime! Come enjoy stories that celebrate the LGBTQ+ members of our community\, a craft\, music\, and cookies from Via’s Cookies!
URL:https://www.downtownithaca.com/event/pride-storytime-part-of-the-gay-agenda-at-tcpl/
LOCATION:Tompkins County Public Library\, 101 E. Green Street\, Ithaca\, NY\, 14850
CATEGORIES:Featured
ATTACH;FMTTYPE=image/jpeg:https://www.downtownithaca.com/wp-content/uploads/Family-Storytime.jpg
ORGANIZER;CN="TCPL":MAILTO:communications@tcpl.org
END:VEVENT
BEGIN:VEVENT
DTSTART;TZID=America/New_York:20250529T180000
DTEND;TZID=America/New_York:20250529T200000
DTSTAMP:20260421T132045
CREATED:20250527T142700Z
LAST-MODIFIED:20250527T142700Z
UID:10004725-1748541600-1748548800@www.downtownithaca.com
SUMMARY:Nuclear NY Southern Tier Kickoff Social Event
DESCRIPTION:Kickoff meeting of the Southern Tier Chapter of Nuclear NY\, a nonprofit organization that educates and advocates for nuclear power as part of the energy mix for a sustainable\, prosperous\, energy abundant future. \nWe’ll spend an hour at the Tompkins County Library Borg Warner room and then head over to the Monks on the Commons (120 S Aurora Street) to continue conversations and community building in an informal setting. \nAgenda: 6-7 pm at the library\, 7-8 pm out for drinks/social\n* Very brief intros (5 mins)\n* Short intro to “Why Nuclear Power?” (5 mins)\n* Short intro to the NYS Blueprint for Advanced Nuclear Power (5 mins)\n* Purpose and history of Nuclear NY with guest hosts from downstate and potentially other nuclear orgs (20 mins)\n* Actions we can take to support nuclear (10 mins). You could bring a laptop so you can submit advocacy emails in real time.\n* Discuss ways folks want to get involved\, connections we have to relevant organizations\, rotating meeting locations across the Southern Tier\, etc. (15 mins) \n7 pm – 8 pm\nWalk over to the Monks on the Commons (Marriott Ithaca Downtown) and hang out to get to know each other better.
URL:https://www.downtownithaca.com/event/nuclear-ny-southern-tier-kickoff-social-event/
LOCATION:Tompkins County Public Library\, 101 E. Green Street\, Ithaca\, NY\, 14850
CATEGORIES:Featured
ATTACH;FMTTYPE=image/jpeg:https://www.downtownithaca.com/wp-content/uploads/NNY-big-1.jpg
ORGANIZER;CN="Tompkins County Public Library Foundation":MAILTO:foundationinfo@tcplfoundation.org
END:VEVENT
BEGIN:VEVENT
DTSTART;TZID=America/New_York:20250429T120000
DTEND;TZID=America/New_York:20250429T153000
DTSTAMP:20260421T132045
CREATED:20250421T181740Z
LAST-MODIFIED:20250421T181740Z
UID:10004609-1745928000-1745940600@www.downtownithaca.com
SUMMARY:Buying &Selling Businesses: Financing and business planning considerations
DESCRIPTION:The Tompkins Chamber is proud to bring you a L.E.A.R.N. seminar\, “Buying and Selling Businesses: Financing and business planning considerations”\, sponsored by M&T Bank. \nAn overview will be presented by M&T Bank\, followed by a panel discussion with representatives from: M&T Bank\, Ithaca Area Economic Development (IAED)\, Small Business Development Center (SBDC)\, Small Business Administration (SBA)\, Klausner Cook\, PLLC\, and Sciarabba Walker & Co.\, LLP. \nThere will be time for Q&A as well as open networking.  \nAgenda:\n12:00PM – 12:20PM: Opening Intros & Lunch (provided)\n12:20PM – 1:00PM: Overview Presentation from M&T\n1:00PM – 1:50PM: Panel Discussion\n1:50PM – 2:00PM: Intermission\n2:00PM – 3:00PM: Q&A Open Discussion\n3:00PM – 3:30PM: Open Networking \nPresenters:\nIAED – Kellea Bauda\, Director of Business Services (co-moderator)\nSBDC – Michael Herceg\, Tompkins Business Advisor (co-moderator)\nM&T – Kellyann O’Mara\, Vice President/Commercial Manager at M&T Bank\nM&T – Christian Pasto\, Commercial Relationship Manager\nM&T – David Manzelmann\, Business Banking Team Leader\nSBA – Dan Rickman\, District Director\nSBA – Bob Pace\, Marketing Coordinator\nSBDC – Liam McMahon\, Regional Director\nKlausner Cook\, PLLC – Michael Veruto\, Esq.\nSciarabba Walker & Co.\, LLP – TBD
URL:https://www.downtownithaca.com/event/buying-selling-businesses-financing-and-business-planning-considerations/
LOCATION:Tompkins County Public Library\, 101 E. Green Street\, Ithaca\, NY\, 14850
CATEGORIES:Featured
ORGANIZER;CN="Tompkins Chamber":MAILTO:info@tompkinschamber.org
END:VEVENT
BEGIN:VEVENT
DTSTART;TZID=America/New_York:20250416T100000
DTEND;TZID=America/New_York:20250416T120000
DTSTAMP:20260421T132045
CREATED:20250324T141251Z
LAST-MODIFIED:20250324T141251Z
UID:10004503-1744797600-1744804800@www.downtownithaca.com
SUMMARY:Carl the Collector Screenings and Resource Fair
DESCRIPTION:Presented by WSKG in collaboration with Tompkins County Public Library \nJoin us for a FREE sensory-friendly event featuring the new PBS Kids show “Carl the Collector” at Tompkins County Public Library. \nEnjoy screenings of this heartwarming series about Carl\, an autistic raccoon who solves problems in Fuzzytown. \nScreenings will have limited group sizes\, with sign-ups available at check-in on a first-come\, first-served basis. \nExplore community resource tables\, engage in crafts\, and celebrate neurodiversity with us!
URL:https://www.downtownithaca.com/event/carl-the-collector-screenings-and-resource-fair/
LOCATION:Tompkins County Public Library\, 101 E. Green Street\, Ithaca\, NY\, 14850
CATEGORIES:Featured
ATTACH;FMTTYPE=image/png:https://www.downtownithaca.com/wp-content/uploads/Carl-the-Collector-Web-blog.png
ORGANIZER;CN="TCPL":MAILTO:communications@tcpl.org
END:VEVENT
BEGIN:VEVENT
DTSTART;TZID=America/New_York:20250201T143000
DTEND;TZID=America/New_York:20250201T153000
DTSTAMP:20260421T132045
CREATED:20250123T164525Z
LAST-MODIFIED:20250123T164525Z
UID:10004411-1738420200-1738423800@www.downtownithaca.com
SUMMARY:Lion Dance and Parasol Dance at TCPL to Celebrate Lunar New Year
DESCRIPTION:Tompkins County Public Library\, in partnership with the Cornell Lion Dance Club and the Cornell Illumination Chinese Cultural Dance Troupe\, invites you to a spectacular and thrilling dance performance for children and families! \nHelp celebrate the Lunar Year by ushering in the Year of the Snake! The performance will be on the Avenue of Friends at TCPL. \nEach performance will feature a lively 10-15 minute dance\, followed by engaging interactions with the children. \nThis year\, the Cornell Lion Dance is back with two ferocious lions! Don’t miss this exciting celebration!
URL:https://www.downtownithaca.com/event/lion-dance-and-parasol-dance-at-tcpl-to-celebrate-lunar-new-year/
LOCATION:Tompkins County Public Library\, 101 E. Green Street\, Ithaca\, NY\, 14850
CATEGORIES:Featured
ATTACH;FMTTYPE=image/png:https://www.downtownithaca.com/wp-content/uploads/Orange-Creative-Lion-Dance-Festival-Flyer.png
ORGANIZER;CN="TCPL":MAILTO:communications@tcpl.org
END:VEVENT
BEGIN:VEVENT
DTSTART;TZID=America/New_York:20241207T130000
DTEND;TZID=America/New_York:20241207T150000
DTSTAMP:20260421T132045
CREATED:20241024T154412Z
LAST-MODIFIED:20241024T154412Z
UID:10004227-1733576400-1733583600@www.downtownithaca.com
SUMMARY:Calvin's Comic Adventures
DESCRIPTION:“Calvin’s Comic Adventures” is a comic-filled program where young minds can bring the popular comics of Calvin and Hobbes to life through engaging activities. \nAlongside their favorite stuffed animal or imaginary friend\, participants can create their own comic-style stories. Inspired by Bill Watterson’s classic tales\, young readers will be able to read and step into the world of Calvin and Hobbes through take-home crafts\,”mad-libs” style word games\, scavenger hunts\, and on-your-feet challenges inspired by Calvin’s favorite game\, “Calvin-ball.” \n“Calvin’s Comic Adventures” is a great place for all comic lovers to explore what their imaginations can achieve. \nBest for kids ages 3-12 – bring your own stuffed animal or imaginary friend! \nPresented by the Ithaca College Graphic Novel Advisory Board.
URL:https://www.downtownithaca.com/event/calvins-comic-adventures/
LOCATION:Tompkins County Public Library\, 101 E. Green Street\, Ithaca\, NY\, 14850
CATEGORIES:Featured
ORGANIZER;CN="Ithaca College Graphic Advisory Board":MAILTO:kkittredge@ithaca.edu
END:VEVENT
BEGIN:VEVENT
DTSTART;TZID=America/New_York:20231103T100000
DTEND;TZID=America/New_York:20231103T120000
DTSTAMP:20260421T132045
CREATED:20231016T142745Z
LAST-MODIFIED:20231016T142745Z
UID:10003248-1699005600-1699012800@www.downtownithaca.com
SUMMARY:Water Quality Data Jam
DESCRIPTION:Join Community Science Institute for a team exploration of YOUR water quality questions!\nFriday\, November 3\, 10am – Noon\nTompkins County Public Library\nBorgWarner Room\n101 East Green St. \nDo you have questions about the water quality in your watershed\, such as:\n-Where on Cayuga Lake do Harmful Algal Blooms occur most frequently?\n-Which of my favorite swimming holes have the highest E. coli counts?\n-How is the water quality on Six Mile Creek\, the source of the City of Ithaca’s drinking water? \nCommunity Science Institute (CSI) has been collecting water quality data in the Cayuga Lake Watershed for many years through our volunteer stream and lake monitoring partnerships. We invite you to come explore these data with us at our upcoming Water Quality Data Jam event hosted at Tompkins County Public Library. This event will give community members with questions such as those above an opportunity to delve into the data to find answers for themselves. CSI staff will be close at hand to guide teams to find critical information using our water quality database. \nAttendees will work in teams to address their questions about water quality in the Cayuga Lake Watershed and beyond! At the end of the event\, teams will come together to share their findings with the rest of the attendees. \nSign up and bring your water quality questions with you. Together\, we can embark on a journey of data exploration! \nSign up using the following link: https://www.tcpl.org/event/data-jam-community-science-institute
URL:https://www.downtownithaca.com/event/water-quality-data-jam/
LOCATION:Tompkins County Public Library\, 101 E. Green Street\, Ithaca\, NY\, 14850
ATTACH;FMTTYPE=image/png:https://www.downtownithaca.com/wp-content/uploads/Data-Jam-social-media-post-3.png
ORGANIZER;CN="Community Science Institute":MAILTO:info@communityscience.org
END:VEVENT
BEGIN:VEVENT
DTSTART;TZID=America/New_York:20230429T143000
DTEND;TZID=America/New_York:20230429T163000
DTSTAMP:20260421T132045
CREATED:20230421T161332Z
LAST-MODIFIED:20230421T161332Z
UID:10000091-1682778600-1682785800@www.downtownithaca.com
SUMMARY:“SPEAKING DANCE WISE #3: roundtable reflections with Tompkins County long term dancers\, movers and shakers”
DESCRIPTION:‘SPEAKING DANCE WISE’ #3 is part of a series of roundtable discussions providing opportunities for seasoned Tompkins County movement artists\, ‘elders’\, to share their knowledge and experience through conversations and presentations rooted in 20th and 21st century practices\, expressions\, and aesthetic shifts over multiple decades. The third ‘roundtable’ focuses on the work of featured guests; dancer/activist Gladys Brangman\, dancer/teacher Janice Kovar\, and teacher /choreographer Amanda Moretti.\nGladys Brangman has been teaching Hip Hop for the last 20 plus years having worked at the Trumansburg Dance Studio (with the amazing Lucille McGill)\, Jill Reeners School of Dance and Performing Arts and most recently at Jen X Academy of Dance. She has had award winning dance teams that made it to national competitions. Gladys has taken a break from dance since the pandemic but is looking forward to getting back in the studio and becoming active in the local dance scene again. \nJanice Kovar\, a long time Ithaca resident\, has been fortunate to pursue her passion for dance within the upstate community. She has had a rewarding career studying\, observing\, choreographing\, teaching\, and performing modern dance. Over a lifetime\, she has literally exposed well over 3\,500 students to the joy of movement. \nAmanda Moretti is a choreographer and dance teacher living in Ithaca for the past 18 years. She studied at Naropa Institute and York University. Her latest choreography\, “Tundra\,” was performed at Winterdance 2023 by the Ithaca Ballet Company. \nGuests will be addressing questions about their beginnings\, middle careers\, and where they are now\, as well as thoughts about the current “state of the art\,” and what to look for in the future. Dancer/choreographers Kathy Lucas and Jim Self will be moderating. \nKathy Lucas is a dancer\, choreographer\, and unconventional fitness trainer with over 30 years’ experience in movement arts. She is a co-founder and collaborator of 5 Sisters Performing Arts\, Ithaca NY where she teaches several fusion-style dance classes and facilitates monthly meetups of movement and storytelling through grief and loss. She graduated with a theatre and dance focus from SUNY Brockport\, and locally\, Kathy has produced\, choreographed\, and performed in several music and dance projects. \nJim Self\, described as a “post-modern bad boy” and a “uniquely eccentric artist\,” by the Village Voice works in dance\, painting\, performance\, writing\, and installation. A New York Dance and Performance Award (Bessie) winner\, and Cornell dance faculty from 1989- 2014\, he has been a member of the New York State DanceForce since 2007 and created June Dance at the Cherry. \n“SPEAKING DANCE WISE: roundtable reflections with Tompkins County long term dancers\, movers and shakers” is made possible with funds from the NYS DanceForce\, a partnership program of the New York State Council on the Arts with the support of Governor Kathy Hochul and the New York State Legislature.
URL:https://www.downtownithaca.com/event/speaking-dance-wise-3-roundtable-reflections-with-tompkins-county-long-term-dancers-movers-and-shakers/
LOCATION:Tompkins County Public Library\, 101 E. Green Street\, Ithaca\, NY\, 14850
ATTACH;FMTTYPE=image/jpeg:https://www.downtownithaca.com/wp-content/uploads/Speaking-Dancewise-3-copy.jpg
ORGANIZER;CN="NYS DanceForce":MAILTO:jimboself@mac.com
END:VEVENT
BEGIN:VEVENT
DTSTART;TZID=America/New_York:20230401T143000
DTEND;TZID=America/New_York:20230401T161500
DTSTAMP:20260421T132045
CREATED:20230322T133606Z
LAST-MODIFIED:20230322T133606Z
UID:10000076-1680359400-1680365700@www.downtownithaca.com
SUMMARY:“SPEAKING DANCE WISE #2: roundtable reflections with Tompkins County long term dancers\, movers and shakers” comes to the Tompkins County Library in Downtown Ithaca on April 1\, 2023.
DESCRIPTION:‘SPEAKING DANCE WISE’ #2 is part of a series of roundtable discussions providing opportunities for seasoned Tompkins County movement artists\, ‘elders’\, to share their knowledge and experience through conversations and presentations rooted in 20th and 21st century practices\, expressions\, and aesthetic shifts over multiple decades. This project responds to and engages with some of the many accomplished movement artists who have settled in the Ithaca area after multi-faceted national and international careers. The second ‘roundtable’ focuses on the work of video artist/documentarian Marilyn Rivchin\, and the artist and choreographer Jim Self. This presentation will include a more visual focus\, including images and videos from Self’s 50 years of dance making\, and Rivchin’s extensive archive of dance documentation and original dance films with local movement artists from the 1970’s to the present.\nDancer and choreographer Kathy Lucas will be moderating a discussion that delves into the joys and challenges of life in the world of dance\, performance\, choreography\, aesthetics\, and documentation. Guests will be addressing specific questions about their beginnings\, middle careers\, and where they are now\, as well as thoughts about the current “state of the art\,” and what to look for in the future.\nFor more information\, visit Speaking Dance Wise event page @ https://www.facebook.com/events/164434809728568/?ref=newsfeed
URL:https://www.downtownithaca.com/event/speaking-dance-wise-2-roundtable-reflections-with-tompkins-county-long-term-dancers-movers-and-shakers-comes-to-the-tompkins-county-library-in-downtown-ithaca-on-april-1-2023/
LOCATION:Tompkins County Public Library\, 101 E. Green Street\, Ithaca\, NY\, 14850
ATTACH;FMTTYPE=image/jpeg:https://www.downtownithaca.com/wp-content/uploads/Dancewise-with-Marilyn-Jim-revised-3.jpeg
ORGANIZER;CN="NYS DanceForce":MAILTO:jimboself@mac.com
END:VEVENT
BEGIN:VEVENT
DTSTART;TZID=America/New_York:20230318T144000
DTEND;TZID=America/New_York:20230318T161500
DTSTAMP:20260421T132045
CREATED:20230307T164111Z
LAST-MODIFIED:20230307T164111Z
UID:10000075-1679150400-1679156100@www.downtownithaca.com
SUMMARY:SPEAKING DANCE WISE: roundtable reflections with Tompkins County long term dancers\, movers and shakers.
DESCRIPTION:‘SPEAKING DANCE WISE’ is a new series of three roundtable discussions providing opportunities for seasoned Tompkins County movement artists\, ‘elders’\, to share their knowledge and experience through conversations and presentations rooted in 20th and 21st century practices\, expressions\, and aesthetic shifts over multiple decades. This project responds to and engages with some of the many accomplished movement artists who have settled in the Ithaca area after multi-faceted national and international careers.\nDancers\, and choreographers Kathy Lucas and Jim Self will be moderating discussions that delve into the joys and challenges of life in the world of dance\, performance\, choreography\, aesthetics\, and documentation. It promises to be lively and informative. Dance lovers of all ages and backgrounds will find value as the guests share some of the ins and outs\, and all arounds\, of lives dedicated to the most ephemeral art form. Guests will be addressing specific questions about their beginnings\, middle careers\, and where they are now\, as well as thoughts about the current “sate of the art\,” and what to look for in the future. For more information\, visit Speaking Dance Wise event page @ https://www.facebook.com/events/164434809728568/?ref=newsfeed
URL:https://www.downtownithaca.com/event/speaking-dance-wise-roundtable-reflections-with-tompkins-county-long-term-dancers-movers-and-shakers/
LOCATION:Tompkins County Public Library\, 101 E. Green Street\, Ithaca\, NY\, 14850
ATTACH;FMTTYPE=image/jpeg:https://www.downtownithaca.com/wp-content/uploads/Speaking-Dancewise-flyer-revised3.jpeg
ORGANIZER;CN="Jim Self":MAILTO:jimboself@mac.com
END:VEVENT
END:VCALENDAR