BEGIN:VCALENDAR
VERSION:2.0
PRODID:-//Downtown Ithaca - ECPv6.15.20//NONSGML v1.0//EN
CALSCALE:GREGORIAN
METHOD:PUBLISH
X-ORIGINAL-URL:https://www.downtownithaca.com
X-WR-CALDESC:Events for Downtown Ithaca
REFRESH-INTERVAL;VALUE=DURATION:PT1H
X-Robots-Tag:noindex
X-PUBLISHED-TTL:PT1H
BEGIN:VTIMEZONE
TZID:America/New_York
BEGIN:DAYLIGHT
TZOFFSETFROM:-0500
TZOFFSETTO:-0400
TZNAME:EDT
DTSTART:20240310T070000
END:DAYLIGHT
BEGIN:STANDARD
TZOFFSETFROM:-0400
TZOFFSETTO:-0500
TZNAME:EST
DTSTART:20241103T060000
END:STANDARD
BEGIN:DAYLIGHT
TZOFFSETFROM:-0500
TZOFFSETTO:-0400
TZNAME:EDT
DTSTART:20250309T070000
END:DAYLIGHT
BEGIN:STANDARD
TZOFFSETFROM:-0400
TZOFFSETTO:-0500
TZNAME:EST
DTSTART:20251102T060000
END:STANDARD
BEGIN:DAYLIGHT
TZOFFSETFROM:-0500
TZOFFSETTO:-0400
TZNAME:EDT
DTSTART:20260308T070000
END:DAYLIGHT
BEGIN:STANDARD
TZOFFSETFROM:-0400
TZOFFSETTO:-0500
TZNAME:EST
DTSTART:20261101T060000
END:STANDARD
END:VTIMEZONE
BEGIN:VEVENT
DTSTART;TZID=America/New_York:20250210T180000
DTEND;TZID=America/New_York:20250210T200000
DTSTAMP:20260425T095332
CREATED:20250123T164603Z
LAST-MODIFIED:20250123T164603Z
UID:10004410-1739210400-1739217600@www.downtownithaca.com
SUMMARY:TCPL to welcome Pulitzer Prize-Winning Author Jonathan Eig
DESCRIPTION:Tompkins County Public Library is excited to welcome author Jonathan Eig for a speaking event. \nHe will be speaking about “King: A Life\,” his biography of Dr. Martin Luther King\, Jr. that was awarded the 2024 Pulitzer Prize for Biography. \nThe program is free to the public and will include a Q&A session as well as a book signing in conjunction with Odyssey Books. \nThe event is made possible by support from the Tompkins County Public Library Foundation. \nSee our announcement and learn more about Eig and his work here: https://www.tcpl.org/TCPL-welcomes-Jonathan-Eig
URL:https://www.downtownithaca.com/event/tcpl-to-welcome-pulitzer-prize-winning-author-jonathan-eig/
LOCATION:Tompkins Coutny Public Library\, 101 East Green Street\, Ithaca\, 14850
CATEGORIES:Featured
ATTACH;FMTTYPE=image/png:https://www.downtownithaca.com/wp-content/uploads/Eig-Book-Talk-Flyer-2025.png
ORGANIZER;CN="TCPL":MAILTO:communications@tcpl.org
END:VEVENT
END:VCALENDAR