BEGIN:VCALENDAR
VERSION:2.0
PRODID:-//Downtown Ithaca - ECPv6.15.20//NONSGML v1.0//EN
CALSCALE:GREGORIAN
METHOD:PUBLISH
X-WR-CALNAME:Downtown Ithaca
X-ORIGINAL-URL:https://www.downtownithaca.com
X-WR-CALDESC:Events for Downtown Ithaca
REFRESH-INTERVAL;VALUE=DURATION:PT1H
X-Robots-Tag:noindex
X-PUBLISHED-TTL:PT1H
BEGIN:VTIMEZONE
TZID:America/New_York
BEGIN:DAYLIGHT
TZOFFSETFROM:-0500
TZOFFSETTO:-0400
TZNAME:EDT
DTSTART:20230312T070000
END:DAYLIGHT
BEGIN:STANDARD
TZOFFSETFROM:-0400
TZOFFSETTO:-0500
TZNAME:EST
DTSTART:20231105T060000
END:STANDARD
BEGIN:DAYLIGHT
TZOFFSETFROM:-0500
TZOFFSETTO:-0400
TZNAME:EDT
DTSTART:20240310T070000
END:DAYLIGHT
BEGIN:STANDARD
TZOFFSETFROM:-0400
TZOFFSETTO:-0500
TZNAME:EST
DTSTART:20241103T060000
END:STANDARD
BEGIN:DAYLIGHT
TZOFFSETFROM:-0500
TZOFFSETTO:-0400
TZNAME:EDT
DTSTART:20250309T070000
END:DAYLIGHT
BEGIN:STANDARD
TZOFFSETFROM:-0400
TZOFFSETTO:-0500
TZNAME:EST
DTSTART:20251102T060000
END:STANDARD
END:VTIMEZONE
BEGIN:VEVENT
DTSTART;TZID=America/New_York:20240617T100000
DTEND;TZID=America/New_York:20240617T170000
DTSTAMP:20260424T112119
CREATED:20240514T144832Z
LAST-MODIFIED:20240514T144832Z
UID:10003932-1718618400-1718643600@www.downtownithaca.com
SUMMARY:32ND Annual YMCA Kids to Camp Golf Tournament
DESCRIPTION:The Kids to Camp Golf Outing — the longest-running charity golf outing in Tompkins County — helps us provide our summer camp programs to more local youths. These camp experiences provide outdoor education\, cooperative games\, learning activities\, and more for ages 5-17. These aren’t just fun for the kids — they teach self-reliance and a love of nature\, promote healthy socialization\, and build character. \nThrough community sponsorship and participation\, local businesses and generous individuals provide a safe\, educational environment where local kids make memories to last a lifetime. The Kids to Camp Golf outing will be held at Trumansburg Golf Club\, located at 23 Halsey Street\, Trumansburg NY. \nKids to Camp Golf Outing Details\nNOTE: We are still finalizing this information\, and details may change without notice \nTeam Fee: $600\nFormat: Scramble\, 4-Person Captain & Crew\nContests: Hole-in-One prizes on all par 3’s (including $10\,000 cash)\, Closest to the Pin\, Long Drive\, Putting Contest\, Skins\, and more\nIncluded: Greens fees\, carts\, lunch\, on-course soda\, beer\, water\, snacks\, after-play hors d’oeuvres\, and a gift bag\nShotgun starts at 11:00 am\nElectronic sign-up is preferred\, but registration forms can be submitted in person at the YMCA Welcome Desk\nPlay will be followed by an awards ceremony
URL:https://www.downtownithaca.com/event/32nd-annual-ymca-kids-to-camp-golf-tournament/
LOCATION:Trumansburg Golf Course\, 23 Halsey Street\, Trumansburg\, 14886
CATEGORIES:Featured
ATTACH;FMTTYPE=image/jpeg:https://www.downtownithaca.com/wp-content/uploads/THE-32ND-ANNUAL-YMCA.jpg
ORGANIZER;CN="The YMCA of Ithaca and Tompkins County":MAILTO:info@ithacaymca.com
END:VEVENT
END:VCALENDAR