BEGIN:VCALENDAR
VERSION:2.0
PRODID:-//Downtown Ithaca - ECPv6.15.20//NONSGML v1.0//EN
CALSCALE:GREGORIAN
METHOD:PUBLISH
X-ORIGINAL-URL:https://www.downtownithaca.com
X-WR-CALDESC:Events for Downtown Ithaca
REFRESH-INTERVAL;VALUE=DURATION:PT1H
X-Robots-Tag:noindex
X-PUBLISHED-TTL:PT1H
BEGIN:VTIMEZONE
TZID:America/New_York
BEGIN:DAYLIGHT
TZOFFSETFROM:-0500
TZOFFSETTO:-0400
TZNAME:EDT
DTSTART:20220313T070000
END:DAYLIGHT
BEGIN:STANDARD
TZOFFSETFROM:-0400
TZOFFSETTO:-0500
TZNAME:EST
DTSTART:20221106T060000
END:STANDARD
BEGIN:DAYLIGHT
TZOFFSETFROM:-0500
TZOFFSETTO:-0400
TZNAME:EDT
DTSTART:20230312T070000
END:DAYLIGHT
BEGIN:STANDARD
TZOFFSETFROM:-0400
TZOFFSETTO:-0500
TZNAME:EST
DTSTART:20231105T060000
END:STANDARD
BEGIN:DAYLIGHT
TZOFFSETFROM:-0500
TZOFFSETTO:-0400
TZNAME:EDT
DTSTART:20240310T070000
END:DAYLIGHT
BEGIN:STANDARD
TZOFFSETFROM:-0400
TZOFFSETTO:-0500
TZNAME:EST
DTSTART:20241103T060000
END:STANDARD
END:VTIMEZONE
BEGIN:VEVENT
DTSTART;TZID=America/New_York:20230708T110000
DTEND;TZID=America/New_York:20230708T160000
DTSTAMP:20260420T202315
CREATED:20230705T142904Z
LAST-MODIFIED:20230705T142904Z
UID:10002749-1688814000-1688832000@www.downtownithaca.com
SUMMARY:Greater Ithaca Area Art Trail Second Saturday
DESCRIPTION:Travel the Greater Ithaca Art Trail on the second Saturday of each month. No fee. No reservations. Just visit a selection of artist studio’s throughout Tompkins County to see great art and have amazing conversations. \nVisit ArtTrail.com to find the list of July 8th open studios! \nWe thank our wonderful 2023 Art Trail Sponsors: Cornell University\, P.W. Wood & Son\, Bouquet Holstein PLLC\, and The JewelBox. Our Media sponsors are WSKG and WITH radio. \nThe Art Trail is a program of the Community Arts Partnership of Tompkins County.
URL:https://www.downtownithaca.com/event/greater-ithaca-area-art-trail-second-saturday/
LOCATION:Various Artist Studios in the Greater Ithaca Area\, Ithaca\, 14850
ATTACH;FMTTYPE=image/jpeg:https://www.downtownithaca.com/wp-content/uploads/Keeler-North-Star-Art-Gallery-copy.jpeg
ORGANIZER;CN="Community Arts Partnership":MAILTO:info@artspartner.org
END:VEVENT
END:VCALENDAR